BEGIN:VCALENDAR
VERSION:2.0
PRODID:-//Ciberpeds AC - ECPv6.15.13//NONSGML v1.0//EN
CALSCALE:GREGORIAN
METHOD:PUBLISH
X-WR-CALNAME:Ciberpeds AC
X-ORIGINAL-URL:http://www.ciberpediatras.org
X-WR-CALDESC:Eventos para Ciberpeds AC
REFRESH-INTERVAL;VALUE=DURATION:PT1H
X-Robots-Tag:noindex
X-PUBLISHED-TTL:PT1H
BEGIN:VTIMEZONE
TZID:America/Monterrey
BEGIN:STANDARD
TZOFFSETFROM:-0600
TZOFFSETTO:-0600
TZNAME:CST
DTSTART:20250101T000000
END:STANDARD
END:VTIMEZONE
BEGIN:VEVENT
DTSTART;TZID=America/Monterrey:20260401T210000
DTEND;TZID=America/Monterrey:20260401T220000
DTSTAMP:20260422T044716
CREATED:20260329T025022Z
LAST-MODIFIED:20260331T014155Z
UID:9395-1775077200-1775080800@www.ciberpediatras.org
SUMMARY:Impacto de la Suplementación Materna con Sinbióticos\, en la Microbiota\, Durante la Lactancia Materna
DESCRIPTION:Estimado Pediatra Latinoamericano \nLe invitamos a registrarse en un seminario de Ciberpeds-Conapeme \nMiércoles 1 abril 2026 09:00 p. m. Ciudad de México \nImpacto de la Suplementación Materna con Sinbióticos\, en la Microbiota\, Durante la Lactancia Materna por el Dr. Daniel Fuentes Lugo \n  \n\nAgregar un título-3 Formato PDF\nRegístrese con antelación en este seminario web: \nhttps://us02web.zoom.us/webinar/register/WN_eLUy6nu6Su-WK1ys3ZJHlA
URL:http://www.ciberpediatras.org/event/impacto-de-la-suplementacion-materna-con-simbioticos-sobre-la-microbiota/
CATEGORIES:Conferencia On-Line
END:VEVENT
END:VCALENDAR