BEGIN:VCALENDAR
VERSION:2.0
PRODID:-//Ciberpeds AC - ECPv6.15.13//NONSGML v1.0//EN
CALSCALE:GREGORIAN
METHOD:PUBLISH
X-WR-CALNAME:Ciberpeds AC
X-ORIGINAL-URL:http://www.ciberpediatras.org
X-WR-CALDESC:Eventos para Ciberpeds AC
REFRESH-INTERVAL;VALUE=DURATION:PT1H
X-Robots-Tag:noindex
X-PUBLISHED-TTL:PT1H
BEGIN:VTIMEZONE
TZID:America/Monterrey
BEGIN:STANDARD
TZOFFSETFROM:-0600
TZOFFSETTO:-0600
TZNAME:CST
DTSTART:20250101T000000
END:STANDARD
END:VTIMEZONE
BEGIN:VEVENT
DTSTART;TZID=America/Monterrey:20260128T210000
DTEND;TZID=America/Monterrey:20260128T220000
DTSTAMP:20260420T082810
CREATED:20260126T155938Z
LAST-MODIFIED:20260126T155938Z
UID:9240-1769634000-1769637600@www.ciberpediatras.org
SUMMARY:Detección de Factores de Riesgo de Insuficiencia Renal en Pediatría
DESCRIPTION:Estimado Pediatra Latinoamericano le invitamos a un seminario web de Zoom. \nMiércoles 28 ene 2026 09:00 p. m. Ciudad de México \nDetección de Factores de Riesgo de Insuficiencia Renal en Pediatría\, por el Dr. Juan Alberto Ortiz Chan \nNefrólogo de Campeche. \n \nEnero 28_2026-FORMATO PDF\nhttps://us02web.zoom.us/webinar/register/WN_eplVBx0DQWOF3EYYqXyLVA
URL:http://www.ciberpediatras.org/event/deteccion-de-factores-de-riesgo-de-insuficiencia-renal-en-pediatria/
CATEGORIES:Conferencia On-Line
END:VEVENT
END:VCALENDAR