BEGIN:VCALENDAR
VERSION:2.0
PRODID:-//Ciberpeds AC - ECPv6.15.13//NONSGML v1.0//EN
CALSCALE:GREGORIAN
METHOD:PUBLISH
X-ORIGINAL-URL:http://www.ciberpediatras.org
X-WR-CALDESC:Eventos para Ciberpeds AC
REFRESH-INTERVAL;VALUE=DURATION:PT1H
X-Robots-Tag:noindex
X-PUBLISHED-TTL:PT1H
BEGIN:VTIMEZONE
TZID:America/Monterrey
BEGIN:STANDARD
TZOFFSETFROM:-0600
TZOFFSETTO:-0600
TZNAME:CST
DTSTART:20250101T000000
END:STANDARD
END:VTIMEZONE
BEGIN:VEVENT
DTSTART;TZID=America/Monterrey:20260121T210000
DTEND;TZID=America/Monterrey:20260121T220000
DTSTAMP:20260420T095035
CREATED:20260116T024550Z
LAST-MODIFIED:20260119T211126Z
UID:9191-1769029200-1769032800@www.ciberpediatras.org
SUMMARY:Fisiología de la Placenta y su Actividad en Neurodesarrollo Infantil
DESCRIPTION:Estimado Pediatra Latinoamericano  \nLe invitamos a registrarse en un seminario web de Zoom. \nMiércoles 21 enero 2026 09:00 p. m. Ciudad de México \nFisiología de la Placenta y su Actividad en Neurodesarrollo Infantil\, por la Dra. Martina Angélica Guido Campuzano Neonatologa de la Cd deMéxico \n \nEnero 21_2026_Formato PDF\n\nRegístrese con antelación en este seminario web: \nhttps://us02web.zoom.us/webinar/register/WN_imCQYGmpS1mmonrDUL5INw
URL:http://www.ciberpediatras.org/event/fisiologia-de-la-placenta-y-su-actividad-en-neurodesarrollo-infantil/
CATEGORIES:Conferencia On-Line
END:VEVENT
END:VCALENDAR