BEGIN:VCALENDAR
VERSION:2.0
PRODID:-//Ciberpeds AC - ECPv6.15.13//NONSGML v1.0//EN
CALSCALE:GREGORIAN
METHOD:PUBLISH
X-WR-CALNAME:Ciberpeds AC
X-ORIGINAL-URL:http://www.ciberpediatras.org
X-WR-CALDESC:Eventos para Ciberpeds AC
REFRESH-INTERVAL;VALUE=DURATION:PT1H
X-Robots-Tag:noindex
X-PUBLISHED-TTL:PT1H
BEGIN:VTIMEZONE
TZID:America/Monterrey
BEGIN:STANDARD
TZOFFSETFROM:-0600
TZOFFSETTO:-0600
TZNAME:CST
DTSTART:20250101T000000
END:STANDARD
END:VTIMEZONE
BEGIN:VEVENT
DTSTART;TZID=America/Monterrey:20260107T210000
DTEND;TZID=America/Monterrey:20260107T220000
DTSTAMP:20260420T094951
CREATED:20260104T003155Z
LAST-MODIFIED:20260104T003307Z
UID:9164-1767819600-1767823200@www.ciberpediatras.org
SUMMARY:Prevención de Alergia por Lactancia Materna
DESCRIPTION:Estimado Pediatra Letinoamericano Le invitamos a registrarse en un seminario web de Zoom. \nMiércoles 7 enero 2026 09:00 p. m. Ciudad de México \nPrevención de Alergia por Lactancia Materna\, por el Dr. Enrique Mendoza López Pediatra de la Cd de Monterrey N.L. \n \nEnero 07_2026_ Formato PDF \nhttps://us02web.zoom.us/webinar/register/WN_p2Atbpr7Rh2ZeM3Uc5Vx2w
URL:http://www.ciberpediatras.org/event/prevencion-de-alergia-por-lactancia-materna/
CATEGORIES:Conferencia On-Line
END:VEVENT
END:VCALENDAR