BEGIN:VCALENDAR
VERSION:2.0
PRODID:-//Ciberpeds AC - ECPv6.15.13//NONSGML v1.0//EN
CALSCALE:GREGORIAN
METHOD:PUBLISH
X-ORIGINAL-URL:http://www.ciberpediatras.org
X-WR-CALDESC:Eventos para Ciberpeds AC
REFRESH-INTERVAL;VALUE=DURATION:PT1H
X-Robots-Tag:noindex
X-PUBLISHED-TTL:PT1H
BEGIN:VTIMEZONE
TZID:America/Monterrey
BEGIN:STANDARD
TZOFFSETFROM:-0600
TZOFFSETTO:-0600
TZNAME:CST
DTSTART:20240101T000000
END:STANDARD
END:VTIMEZONE
BEGIN:VEVENT
DTSTART;TZID=America/Monterrey:20251126T210000
DTEND;TZID=America/Monterrey:20251126T220000
DTSTAMP:20260420T123923
CREATED:20251122T235556Z
LAST-MODIFIED:20251122T235556Z
UID:8820-1764190800-1764194400@www.ciberpediatras.org
SUMMARY:Vacunas en Pediatría\, Actualización  2025
DESCRIPTION:Estimado Pediatra Latinoamericano\, Le invitamos a registrarse en un seminario web de Zoom \nLe invitamos a un seminario Ciberpeds-Conapeme \nMiércoles 26 noviembre 2025 09:00 p. m. Ciudad de México \nActualización en Vacunas 2025\, por los doctores: Pablo Treviño Valdés\, Antonio Arista Viveros\, José G. Martínez Núñez \n \nPróxima Conferencia 26_noviembre_Formato PDF\nhttps://us02web.zoom.us/webinar/register/WN_ySiDOF-kRTG0qM87cFBD1A
URL:http://www.ciberpediatras.org/event/vacunas-en-pediatria-actualizacion-2025/
CATEGORIES:Conferencia On-Line
END:VEVENT
END:VCALENDAR