BEGIN:VCALENDAR
VERSION:2.0
PRODID:-//Ciberpeds AC - ECPv6.15.13//NONSGML v1.0//EN
CALSCALE:GREGORIAN
METHOD:PUBLISH
X-WR-CALNAME:Ciberpeds AC
X-ORIGINAL-URL:http://www.ciberpediatras.org
X-WR-CALDESC:Eventos para Ciberpeds AC
REFRESH-INTERVAL;VALUE=DURATION:PT1H
X-Robots-Tag:noindex
X-PUBLISHED-TTL:PT1H
BEGIN:VTIMEZONE
TZID:America/Monterrey
BEGIN:STANDARD
TZOFFSETFROM:-0600
TZOFFSETTO:-0600
TZNAME:CST
DTSTART:20240101T000000
END:STANDARD
END:VTIMEZONE
BEGIN:VEVENT
DTSTART;TZID=America/Monterrey:20251112T210000
DTEND;TZID=America/Monterrey:20251112T220000
DTSTAMP:20260420T123632
CREATED:20251110T041849Z
LAST-MODIFIED:20251110T041849Z
UID:8804-1762981200-1762984800@www.ciberpediatras.org
SUMMARY:Competencias Digitales en el Docente
DESCRIPTION:Estimado Pediatra Latinoamericano\, Le invitamos a registrarse en un seminario web de Zoom \nMiércoles 12 noviembre 2025 09:00 p. m. Ciudad de México \nCompetencias Digitales en el Docente \, por la Dra Ariana Cerón Apipilhuasco\, Cirujano Pediatra de la Cd de México \n \nPróxima Conferencia 12_noviembre_Formato PDF \nPara inscribirse hacer click aquí: \nhttps://us02web.zoom.us/webinar/register/WN_pusFB6xDTPCKNm7wixvK_w \n 
URL:http://www.ciberpediatras.org/event/competencias-digitales-en-el-docente/
CATEGORIES:Conferencia On-Line
END:VEVENT
END:VCALENDAR