BEGIN:VCALENDAR
VERSION:2.0
PRODID:-//Ciberpeds AC - ECPv6.15.13//NONSGML v1.0//EN
CALSCALE:GREGORIAN
METHOD:PUBLISH
X-WR-CALNAME:Ciberpeds AC
X-ORIGINAL-URL:http://www.ciberpediatras.org
X-WR-CALDESC:Eventos para Ciberpeds AC
REFRESH-INTERVAL;VALUE=DURATION:PT1H
X-Robots-Tag:noindex
X-PUBLISHED-TTL:PT1H
BEGIN:VTIMEZONE
TZID:America/Monterrey
BEGIN:STANDARD
TZOFFSETFROM:-0600
TZOFFSETTO:-0600
TZNAME:CST
DTSTART:20240101T000000
END:STANDARD
END:VTIMEZONE
BEGIN:VEVENT
DTSTART;TZID=America/Monterrey:20251105T210000
DTEND;TZID=America/Monterrey:20251105T220000
DTSTAMP:20260420T123611
CREATED:20251031T165705Z
LAST-MODIFIED:20251031T170924Z
UID:8777-1762376400-1762380000@www.ciberpediatras.org
SUMMARY:Microplásticos\, una Contaminación Silenciosa Para la Salud Infantil
DESCRIPTION:Estimado Pediatra Latinoamericano\, Le invitamos a registrarse en un seminario web de Zoom \nMiércoles 5 noviembre 2025 09:00 p. m. Ciudad de México \nMicroplásticos\, una Contaminación Silenciosa Para la Salud Infantil\, por el Dr. Antonio Manuel Baza Bacab Pediatra de Mérida Yuc. \n \nPróxima Conferencia 5_noviembre_ Formato PDF\nhttps://us02web.zoom.us/webinar/register/WN_K6FnlioKQz-AM5eoZMKUhg
URL:http://www.ciberpediatras.org/event/microplasticos-una-contaminacion-silenciosa-para-la-salud-infanti/
CATEGORIES:Conferencia On-Line
END:VEVENT
END:VCALENDAR