BEGIN:VCALENDAR
VERSION:2.0
PRODID:-//Ciberpeds AC - ECPv6.15.13//NONSGML v1.0//EN
CALSCALE:GREGORIAN
METHOD:PUBLISH
X-WR-CALNAME:Ciberpeds AC
X-ORIGINAL-URL:http://www.ciberpediatras.org
X-WR-CALDESC:Eventos para Ciberpeds AC
REFRESH-INTERVAL;VALUE=DURATION:PT1H
X-Robots-Tag:noindex
X-PUBLISHED-TTL:PT1H
BEGIN:VTIMEZONE
TZID:America/Monterrey
BEGIN:STANDARD
TZOFFSETFROM:-0600
TZOFFSETTO:-0600
TZNAME:CST
DTSTART:20240101T000000
END:STANDARD
END:VTIMEZONE
BEGIN:VEVENT
DTSTART;TZID=America/Monterrey:20250903T210000
DTEND;TZID=America/Monterrey:20250903T220000
DTSTAMP:20260420T164050
CREATED:20250829T030156Z
LAST-MODIFIED:20250829T030156Z
UID:8611-1756933200-1756936800@www.ciberpediatras.org
SUMMARY:Lactancia Materna y Alimentación Complementaria: Recomendaciones Actuales
DESCRIPTION:Estimado Pediatra Latinoamericano\, Le invitamos a registrarse en un seminario web de Zoom. \nMiércoles 3 septiembre 2025 09:00 p. m. Ciudad de México \nLactancia Materna y Alimentación Complementaria: Recomendaciones Actuales\, por el Dr. Daniel Alberto Daiel Fuentes Lugo. Pediatra de Campeche \n \nPróxima Conferencia 3_septiembre_Formato-PDF\nhttps://us02web.zoom.us/webinar/register/WN_uDK0_uutRiyuWtYXUVxHTw
URL:http://www.ciberpediatras.org/event/lactancia-materna-y-alimentacion-complementaria-recomendaciones-actuales/
CATEGORIES:Conferencia On-Line
END:VEVENT
END:VCALENDAR