BEGIN:VCALENDAR
VERSION:2.0
PRODID:-//Ciberpeds AC - ECPv6.15.13//NONSGML v1.0//EN
CALSCALE:GREGORIAN
METHOD:PUBLISH
X-ORIGINAL-URL:http://www.ciberpediatras.org
X-WR-CALDESC:Eventos para Ciberpeds AC
REFRESH-INTERVAL;VALUE=DURATION:PT1H
X-Robots-Tag:noindex
X-PUBLISHED-TTL:PT1H
BEGIN:VTIMEZONE
TZID:America/Monterrey
BEGIN:STANDARD
TZOFFSETFROM:-0600
TZOFFSETTO:-0600
TZNAME:CST
DTSTART:20240101T000000
END:STANDARD
END:VTIMEZONE
BEGIN:VEVENT
DTSTART;TZID=America/Monterrey:20250827T210000
DTEND;TZID=America/Monterrey:20250827T220000
DTSTAMP:20260420T163749
CREATED:20250823T031149Z
LAST-MODIFIED:20250823T031327Z
UID:8595-1756328400-1756332000@www.ciberpediatras.org
SUMMARY:Menstruación en la Adolescencia y las Alteraciones Más Frecuentes
DESCRIPTION:Estimado Pediatra Latinoamericano le invitamos a una Conferencia del seminario Ciberpeds-Conapeme. \nLe invitamos a registrarse en un seminario web de Zoom. \nMiércoles 27 agosto 2025 09:00 p. m. Ciudad de México                                                                                     Menstruación en la Adolescencia y las Alteraciones Más Frecuentes\, por el Dr.Carlos Manuel Vinay Prado\, Pediatra Ginecólogo de la Cd. de Puebla Pue. \n \nPróxima conferencia 27_agosto_formato_PDF \nRegistrese en el siguiente link:\nhttps://us02web.zoom.us/webinar/register/WN_E1nviUALQ82xf7NC8ITN4w
URL:http://www.ciberpediatras.org/event/menstruacion-en-la-adolescencia-y-las-alteraciones-mas-frecuentes/
CATEGORIES:Conferencia On-Line
END:VEVENT
END:VCALENDAR