BEGIN:VCALENDAR
VERSION:2.0
PRODID:-//Ciberpeds AC - ECPv6.15.13//NONSGML v1.0//EN
CALSCALE:GREGORIAN
METHOD:PUBLISH
X-WR-CALNAME:Ciberpeds AC
X-ORIGINAL-URL:http://www.ciberpediatras.org
X-WR-CALDESC:Eventos para Ciberpeds AC
REFRESH-INTERVAL;VALUE=DURATION:PT1H
X-Robots-Tag:noindex
X-PUBLISHED-TTL:PT1H
BEGIN:VTIMEZONE
TZID:America/Monterrey
BEGIN:STANDARD
TZOFFSETFROM:-0600
TZOFFSETTO:-0600
TZNAME:CST
DTSTART:20240101T000000
END:STANDARD
END:VTIMEZONE
BEGIN:VEVENT
DTSTART;TZID=America/Monterrey:20250806T210000
DTEND;TZID=America/Monterrey:20250806T220000
DTSTAMP:20260420T163554
CREATED:20250801T034912Z
LAST-MODIFIED:20250801T034912Z
UID:8539-1754514000-1754517600@www.ciberpediatras.org
SUMMARY:Predictores de una Experiencia Positiva de Lactancia desde la Perspectiva Materna
DESCRIPTION:Estimado Pediatra Latinoamericano le invitamos a una Conferencia del seminario Ciberpeds-Conapeme. \nMiércoles 6 agosto 2025 09:00 p. m. Ciudad de México \nTema:  Predictores de una Experiencia Positiva de Lactancia desde la Perspectiva Materna \n \nProxima conferencia 6_agosto Formato PDF\nRegístrese con antelación en este seminario web: \nhttps://us02web.zoom.us/webinar/register/WN_38LHMDkTRC2MF2FxHLA_2w \n 
URL:http://www.ciberpediatras.org/event/predictores-de-una-experiencia-positiva-de-lactancia-desde-la-perspectiva-materna-2/
CATEGORIES:Conferencia On-Line
END:VEVENT
END:VCALENDAR