BEGIN:VCALENDAR
VERSION:2.0
PRODID:-//Ciberpeds AC - ECPv6.15.13//NONSGML v1.0//EN
CALSCALE:GREGORIAN
METHOD:PUBLISH
X-ORIGINAL-URL:http://www.ciberpediatras.org
X-WR-CALDESC:Eventos para Ciberpeds AC
REFRESH-INTERVAL;VALUE=DURATION:PT1H
X-Robots-Tag:noindex
X-PUBLISHED-TTL:PT1H
BEGIN:VTIMEZONE
TZID:America/Monterrey
BEGIN:STANDARD
TZOFFSETFROM:-0600
TZOFFSETTO:-0600
TZNAME:CST
DTSTART:20240101T000000
END:STANDARD
END:VTIMEZONE
BEGIN:VEVENT
DTSTART;TZID=America/Monterrey:20250730T210000
DTEND;TZID=America/Monterrey:20250730T220000
DTSTAMP:20260420T163804
CREATED:20250728T003507Z
LAST-MODIFIED:20250728T003507Z
UID:8523-1753909200-1753912800@www.ciberpediatras.org
SUMMARY:Actualidades y Retos de la Vía Aérea
DESCRIPTION:Estimado Pediatra Latinoamericano le invitamos a registrarse en un seminario web de Zoom. \nMiércoles 30 julio 2025 09:00 p. m. Ciudad de México \nActualidades y Retos de la Vía Aérea\, por Annery Garcia-Marcinkiewicz\, MD \nRegístrese con antelación en este seminario web: \nhttps://us02web.zoom.us/webinar/register/WN_ZKY2Xf5ETiesaU2r53ipZA \n \nPróxima conferencia 30_julio_ FORMATO PDF
URL:http://www.ciberpediatras.org/event/actualidades-y-retos-de-la-via-aerea/
CATEGORIES:Conferencia On-Line
END:VEVENT
END:VCALENDAR