BEGIN:VCALENDAR
VERSION:2.0
PRODID:-//Ciberpeds AC - ECPv6.15.13//NONSGML v1.0//EN
CALSCALE:GREGORIAN
METHOD:PUBLISH
X-ORIGINAL-URL:http://www.ciberpediatras.org
X-WR-CALDESC:Eventos para Ciberpeds AC
REFRESH-INTERVAL;VALUE=DURATION:PT1H
X-Robots-Tag:noindex
X-PUBLISHED-TTL:PT1H
BEGIN:VTIMEZONE
TZID:America/Monterrey
BEGIN:STANDARD
TZOFFSETFROM:-0600
TZOFFSETTO:-0600
TZNAME:CST
DTSTART:20240101T000000
END:STANDARD
END:VTIMEZONE
BEGIN:VEVENT
DTSTART;TZID=America/Monterrey:20250409T210000
DTEND;TZID=America/Monterrey:20250409T220000
DTSTAMP:20260420T220902
CREATED:20250407T004856Z
LAST-MODIFIED:20250407T004856Z
UID:8078-1744232400-1744236000@www.ciberpediatras.org
SUMMARY:Diagnóstico Contemporáneo de Apendicítis Aguda en Niños
DESCRIPTION:Estimado Pediatra Latinomericano\, Le invitamos a un seminario web de Zoom \nMiércoles 9 abril 2025 09:00 p. m. Ciudad de México \nDiagnóstico Contemporáneo de Apendicítis Aguda en Niños\, por el Dr. Juan Domingo Porras Hernández\, cirujano pediatra dela Cd de Puebla. \n \nProxima conferencia 9_abril.FORMATO_PDF \nhttps://us02web.zoom.us/webinar/register/WN_hNlJdTXNSi6FZFGf_syIcg
URL:http://www.ciberpediatras.org/event/diagnostico-contemporaneo-de-apendicitis-aguda-en-ninos/
CATEGORIES:Conferencia On-Line
END:VEVENT
END:VCALENDAR