BEGIN:VCALENDAR
VERSION:2.0
PRODID:-//Ciberpeds AC - ECPv6.15.13//NONSGML v1.0//EN
CALSCALE:GREGORIAN
METHOD:PUBLISH
X-ORIGINAL-URL:http://www.ciberpediatras.org
X-WR-CALDESC:Eventos para Ciberpeds AC
REFRESH-INTERVAL;VALUE=DURATION:PT1H
X-Robots-Tag:noindex
X-PUBLISHED-TTL:PT1H
BEGIN:VTIMEZONE
TZID:America/Monterrey
BEGIN:STANDARD
TZOFFSETFROM:-0600
TZOFFSETTO:-0600
TZNAME:CST
DTSTART:20240101T000000
END:STANDARD
END:VTIMEZONE
BEGIN:VEVENT
DTSTART;TZID=America/Monterrey:20250402T210000
DTEND;TZID=America/Monterrey:20250402T220000
DTSTAMP:20260420T220820
CREATED:20250330T003759Z
LAST-MODIFIED:20250330T004151Z
UID:8065-1743627600-1743631200@www.ciberpediatras.org
SUMMARY:Microplásticos en Leche Humana y en Fórmulas Infantiles
DESCRIPTION:Estimado Pediatra Latinomericano\, Le invitamos a un seminario web de Zoom \nMiércoles 2 abril 2025 09:00 p. m. Ciudad de México \nMicroplásticos en Leche Humana y en Fórmulas Infantiles\, por el Dr. Mario Daniel Caba Flores \nRegístrese en este seminario web: \n \nPróxima Conferencia 2_abril_FORMATO PDF \n  \nhttps://us02web.zoom.us/webinar/register/WN_f_ehvcxERcKkHaAa-BideQ
URL:http://www.ciberpediatras.org/event/microplasticos-en-leche-humana-y-en-formulas-infantiles/
CATEGORIES:Conferencia On-Line
END:VEVENT
END:VCALENDAR