BEGIN:VCALENDAR
VERSION:2.0
PRODID:-//Ciberpeds AC - ECPv6.15.13//NONSGML v1.0//EN
CALSCALE:GREGORIAN
METHOD:PUBLISH
X-ORIGINAL-URL:http://www.ciberpediatras.org
X-WR-CALDESC:Eventos para Ciberpeds AC
REFRESH-INTERVAL;VALUE=DURATION:PT1H
X-Robots-Tag:noindex
X-PUBLISHED-TTL:PT1H
BEGIN:VTIMEZONE
TZID:America/Monterrey
BEGIN:STANDARD
TZOFFSETFROM:-0600
TZOFFSETTO:-0600
TZNAME:CST
DTSTART:20240101T000000
END:STANDARD
END:VTIMEZONE
BEGIN:VEVENT
DTSTART;TZID=America/Monterrey:20250326T210000
DTEND;TZID=America/Monterrey:20250326T220000
DTSTAMP:20260420T233745
CREATED:20250321T031342Z
LAST-MODIFIED:20250321T195954Z
UID:8049-1743022800-1743026400@www.ciberpediatras.org
SUMMARY:Neurogenética
DESCRIPTION:Estimado Pediatra Latinomericano\, Le invitamos un seminario web de Zoom. \nMiércoles 26 mar 2025\,    09:00 p. m. (21 hrs) Ciudad de México \nNeurogenética por la Dra Pamela McDonell MD. De Filadelfia Pe \n \nPróxima Conferencia 26_Marzo_Archivo_PDF \nRegistra tu ingreso \nhttps://us02web.zoom.us/webinar/register/WN_-mjwch9ERk6Olnw51u01Qw
URL:http://www.ciberpediatras.org/event/neurogenetica/
CATEGORIES:Conferencia On-Line
END:VEVENT
END:VCALENDAR