BEGIN:VCALENDAR
VERSION:2.0
PRODID:-//Ciberpeds AC - ECPv6.15.13//NONSGML v1.0//EN
CALSCALE:GREGORIAN
METHOD:PUBLISH
X-WR-CALNAME:Ciberpeds AC
X-ORIGINAL-URL:http://www.ciberpediatras.org
X-WR-CALDESC:Eventos para Ciberpeds AC
REFRESH-INTERVAL;VALUE=DURATION:PT1H
X-Robots-Tag:noindex
X-PUBLISHED-TTL:PT1H
BEGIN:VTIMEZONE
TZID:America/Monterrey
BEGIN:STANDARD
TZOFFSETFROM:-0600
TZOFFSETTO:-0600
TZNAME:CST
DTSTART:20240101T000000
END:STANDARD
END:VTIMEZONE
BEGIN:VEVENT
DTSTART;TZID=America/Monterrey:20250312T210000
DTEND;TZID=America/Monterrey:20250312T220000
DTSTAMP:20260420T233506
CREATED:20250307T214536Z
LAST-MODIFIED:20250307T214536Z
UID:8009-1741813200-1741816800@www.ciberpediatras.org
SUMMARY:Cirugía Pediátrica Extramuros una Experiencia Excepcional
DESCRIPTION:Le invitamos a registrarse en un seminario web de Zoom. \nEstimado Pediatra Latinomericano\, Le invitamos un seminario web de Zoom. \nMiércoles 12 marzo 2025 09:00 p. m. Ciudad de México \nCirugía Pediátrica Extramuros una Experiencia Excepcional\, por el Dr. Mario Riquelme Heras Cirujano pediatra de la Cd dr Monterrey N.L. \nRegistra tu ingreso: \nhttps://us02web.zoom.us/webinar/register/WN_9j1kKwOuQ2GAw5srOXdPBA \n  \n   \nPráxima Conferencia 12_Marzo_PDF
URL:http://www.ciberpediatras.org/event/cirugia-pediatrica-extramuros-una-experiencia-excepcional/
CATEGORIES:Conferencia On-Line
END:VEVENT
END:VCALENDAR