BEGIN:VCALENDAR
VERSION:2.0
PRODID:-//Ciberpeds AC - ECPv6.15.13//NONSGML v1.0//EN
CALSCALE:GREGORIAN
METHOD:PUBLISH
X-ORIGINAL-URL:http://www.ciberpediatras.org
X-WR-CALDESC:Eventos para Ciberpeds AC
REFRESH-INTERVAL;VALUE=DURATION:PT1H
X-Robots-Tag:noindex
X-PUBLISHED-TTL:PT1H
BEGIN:VTIMEZONE
TZID:America/Monterrey
BEGIN:STANDARD
TZOFFSETFROM:-0600
TZOFFSETTO:-0600
TZNAME:CST
DTSTART:20230101T000000
END:STANDARD
END:VTIMEZONE
BEGIN:VEVENT
DTSTART;TZID=America/Monterrey:20241120T210000
DTEND;TZID=America/Monterrey:20241120T220000
DTSTAMP:20260425T043823
CREATED:20241115T195852Z
LAST-MODIFIED:20241115T195852Z
UID:7759-1732136400-1732140000@www.ciberpediatras.org
SUMMARY:El Futuro de los Adolescentes  Corto plazo
DESCRIPTION:Estimado Pediatra Latinoamericano \nlo invitamos a unirse al seminario web Zoom. \nMiércoles 20 noviembre 2024 09:00 p. m. Ciudad de México \nEl Futuro de los Adolescentes  Corto plazo\, por la Dra Tamara Gamboa Salcedo\, Pediatra de la Cd de México. \n \nPróxima conferencia 20_noviembre_2024_FORMATO PDF \nhttps://us02web.zoom.us/webinar/register/WN_Aqb19VzcS5mrMEMfcYiM3Q
URL:http://www.ciberpediatras.org/event/el-futuro-de-los-adolescentes-corto-plazo/
CATEGORIES:Conferencia On-Line
END:VEVENT
END:VCALENDAR