BEGIN:VCALENDAR
VERSION:2.0
PRODID:-//Ciberpeds AC - ECPv6.15.13//NONSGML v1.0//EN
CALSCALE:GREGORIAN
METHOD:PUBLISH
X-ORIGINAL-URL:http://www.ciberpediatras.org
X-WR-CALDESC:Eventos para Ciberpeds AC
REFRESH-INTERVAL;VALUE=DURATION:PT1H
X-Robots-Tag:noindex
X-PUBLISHED-TTL:PT1H
BEGIN:VTIMEZONE
TZID:America/Monterrey
BEGIN:STANDARD
TZOFFSETFROM:-0600
TZOFFSETTO:-0600
TZNAME:CST
DTSTART:20230101T000000
END:STANDARD
END:VTIMEZONE
BEGIN:VEVENT
DTSTART;TZID=America/Monterrey:20241106T210000
DTEND;TZID=America/Monterrey:20241106T220000
DTSTAMP:20260425T042955
CREATED:20241104T032809Z
LAST-MODIFIED:20241105T221947Z
UID:7715-1730926800-1730930400@www.ciberpediatras.org
SUMMARY:Cuales Son las Vacunas Esenciales en el Embarazo y Lactancia
DESCRIPTION:Estimado Pediatra Latinoamericano. Lo invitamos a unirse al seminario web Zoom.                                                                       Miércoles 6 noviembre 2024 09:00 p. m. Ciudad de México.                                                                                                                                                                                               Cuales Son las Vacunas Esenciales en el Embarazo y Lactancia\,                                                                                               por la Dra Maria Citlali Casillas Casillas \n \n  \nPróxima Conferencia 6_noviembre_2024_Formato PDF \nhttps://us02web.zoom.us/webinar/register/WN_H_fdfGEGTx6_AuyNycF8cA
URL:http://www.ciberpediatras.org/event/cuales-son-las-vacunas-esenciales-en-el-embarazo-y-lactancia/
CATEGORIES:Conferencia On-Line
END:VEVENT
END:VCALENDAR