BEGIN:VCALENDAR
VERSION:2.0
PRODID:-//Ciberpeds AC - ECPv6.15.13//NONSGML v1.0//EN
CALSCALE:GREGORIAN
METHOD:PUBLISH
X-ORIGINAL-URL:http://www.ciberpediatras.org
X-WR-CALDESC:Eventos para Ciberpeds AC
REFRESH-INTERVAL;VALUE=DURATION:PT1H
X-Robots-Tag:noindex
X-PUBLISHED-TTL:PT1H
BEGIN:VTIMEZONE
TZID:America/Monterrey
BEGIN:STANDARD
TZOFFSETFROM:-0600
TZOFFSETTO:-0600
TZNAME:CST
DTSTART:20230101T000000
END:STANDARD
END:VTIMEZONE
BEGIN:VEVENT
DTSTART;TZID=America/Monterrey:20241023T210000
DTEND;TZID=America/Monterrey:20241023T220000
DTSTAMP:20260423T080827
CREATED:20241019T014123Z
LAST-MODIFIED:20241020T190844Z
UID:7666-1729717200-1729720800@www.ciberpediatras.org
SUMMARY:Actualización en Vacunas 2024
DESCRIPTION:Estimado Pediatra Latinoamericano \nlo invitamos a unirse al seminario web Zoom. \nMiércoles 23 octubre 2024 09:00 p. m. Ciudad de México \nActualización en Vacunas 2024\, por los doctores Antoni Arista Viveros y Pablo Treviño Valdéz \nhttps://us02web.zoom.us/webinar/register/WN_kVZ8dc5_SbiCvxtSdQ2b_w \n \nPróxima Conferencia 23_Oct_2024_Formato PDF
URL:http://www.ciberpediatras.org/event/actualizacion-en-vacunas-2024/
CATEGORIES:Conferencia On-Line
END:VEVENT
END:VCALENDAR