BEGIN:VCALENDAR
VERSION:2.0
PRODID:-//Ciberpeds AC - ECPv6.15.13//NONSGML v1.0//EN
CALSCALE:GREGORIAN
METHOD:PUBLISH
X-ORIGINAL-URL:http://www.ciberpediatras.org
X-WR-CALDESC:Eventos para Ciberpeds AC
REFRESH-INTERVAL;VALUE=DURATION:PT1H
X-Robots-Tag:noindex
X-PUBLISHED-TTL:PT1H
BEGIN:VTIMEZONE
TZID:America/Monterrey
BEGIN:STANDARD
TZOFFSETFROM:-0600
TZOFFSETTO:-0600
TZNAME:CST
DTSTART:20230101T000000
END:STANDARD
END:VTIMEZONE
BEGIN:VEVENT
DTSTART;TZID=America/Monterrey:20241009T210000
DTEND;TZID=America/Monterrey:20241009T220000
DTSTAMP:20260423T080811
CREATED:20241006T003728Z
LAST-MODIFIED:20241006T003749Z
UID:7644-1728507600-1728511200@www.ciberpediatras.org
SUMMARY:Abordaje Actual de Testículo no Descendido
DESCRIPTION:Estimado Pediatra Latinoamericano\, lo invitamos: \nMiércoles 9 oct 2024 09:00 p. m. Ciudad de México \nAbordaje Actual de Testículo no Descendido\, por el Dr. DanielAguirre García Cirujano\, Pediatra de la Cd de Guadalajara. \nhttps://us02web.zoom.us/webinar/register/WN_mlYQ0_BvTBe_ntqCkfwnCg \n \nPróxima conferencia 9_Oct_2024_FORAMTO PDF
URL:http://www.ciberpediatras.org/event/7644/
CATEGORIES:Conferencia On-Line
END:VEVENT
END:VCALENDAR