BEGIN:VCALENDAR
VERSION:2.0
PRODID:-//Ciberpeds AC - ECPv6.15.13//NONSGML v1.0//EN
CALSCALE:GREGORIAN
METHOD:PUBLISH
X-WR-CALNAME:Ciberpeds AC
X-ORIGINAL-URL:http://www.ciberpediatras.org
X-WR-CALDESC:Eventos para Ciberpeds AC
REFRESH-INTERVAL;VALUE=DURATION:PT1H
X-Robots-Tag:noindex
X-PUBLISHED-TTL:PT1H
BEGIN:VTIMEZONE
TZID:America/Monterrey
BEGIN:STANDARD
TZOFFSETFROM:-0600
TZOFFSETTO:-0600
TZNAME:CST
DTSTART:20230101T000000
END:STANDARD
END:VTIMEZONE
BEGIN:VEVENT
DTSTART;TZID=America/Monterrey:20240920T210000
DTEND;TZID=America/Monterrey:20240920T220000
DTSTAMP:20260423T091820
CREATED:20240917T215618Z
LAST-MODIFIED:20240917T215742Z
UID:7568-1726866000-1726869600@www.ciberpediatras.org
SUMMARY:Dengue\, Una Actualización 2024.
DESCRIPTION:Estimado Pediatra Latinoamemricano \nlo invitamos a la próxima conferencia del Seminario Ciberpeds-Conapeme \nViernes 20 septiembre 2024 09:00 p. m. Ciudad de México \nDengue\, Una Actualización 2024. Dres. José Guadalupe Martínez N; Jesus Molina B; José Manuel Rentería M. \nhttps://us02web.zoom.us/webinar/register/WN_3jXWQ6YNTsmLxym1J_x9sQ \n \nProxima conferencia_20 Septiembre\, Formato PDF
URL:http://www.ciberpediatras.org/event/dengue-una-actualizacion-2024/
CATEGORIES:Conferencia On-Line
END:VEVENT
END:VCALENDAR