BEGIN:VCALENDAR
VERSION:2.0
PRODID:-//Ciberpeds AC - ECPv6.15.13//NONSGML v1.0//EN
CALSCALE:GREGORIAN
METHOD:PUBLISH
X-ORIGINAL-URL:http://www.ciberpediatras.org
X-WR-CALDESC:Eventos para Ciberpeds AC
REFRESH-INTERVAL;VALUE=DURATION:PT1H
X-Robots-Tag:noindex
X-PUBLISHED-TTL:PT1H
BEGIN:VTIMEZONE
TZID:America/Monterrey
BEGIN:STANDARD
TZOFFSETFROM:-0600
TZOFFSETTO:-0600
TZNAME:CST
DTSTART:20230101T000000
END:STANDARD
END:VTIMEZONE
BEGIN:VEVENT
DTSTART;TZID=America/Monterrey:20240918T210000
DTEND;TZID=America/Monterrey:20240918T220000
DTSTAMP:20260423T092023
CREATED:20240915T033504Z
LAST-MODIFIED:20240915T033600Z
UID:7564-1726693200-1726696800@www.ciberpediatras.org
SUMMARY: VIH Diagnóstico y Prevención en la Adolescencia
DESCRIPTION:Estimado Pediatra Latinoamericano \nlo invitamos a unirse al seminario web Zoom. \nMiércoles 18 septiembre 2024 09:00 p. m. Ciudad de México \n VIH Diagnóstico y Prevención en la Adolescencia por la Dra Cristina de Jesús Herrera Castillo\, Infectólogo Pediatra de la Cd de México \nhttps://us02web.zoom.us/webinar/register/WN_FusvXAxJTdyHf-e7WAUmXA \n \nPróxima Conferencia_18 Septiembre Formato PDF\n 
URL:http://www.ciberpediatras.org/event/vih-diagnostico-y-prevencion-en-la-adolescencia/
CATEGORIES:Conferencia On-Line
END:VEVENT
END:VCALENDAR