BEGIN:VCALENDAR
VERSION:2.0
PRODID:-//Ciberpeds AC - ECPv6.15.13//NONSGML v1.0//EN
CALSCALE:GREGORIAN
METHOD:PUBLISH
X-WR-CALNAME:Ciberpeds AC
X-ORIGINAL-URL:http://www.ciberpediatras.org
X-WR-CALDESC:Eventos para Ciberpeds AC
REFRESH-INTERVAL;VALUE=DURATION:PT1H
X-Robots-Tag:noindex
X-PUBLISHED-TTL:PT1H
BEGIN:VTIMEZONE
TZID:America/Monterrey
BEGIN:STANDARD
TZOFFSETFROM:-0600
TZOFFSETTO:-0600
TZNAME:CST
DTSTART:20230101T000000
END:STANDARD
END:VTIMEZONE
BEGIN:VEVENT
DTSTART;TZID=America/Monterrey:20240904T210000
DTEND;TZID=America/Monterrey:20240904T220000
DTSTAMP:20260423T091726
CREATED:20240901T000946Z
LAST-MODIFIED:20240901T001217Z
UID:7506-1725483600-1725487200@www.ciberpediatras.org
SUMMARY:Tips Para el Exito en la Lactancia\,
DESCRIPTION:Estimado Pediatra Latinoamericano. Lo invitamos a unirse al seminario web Zoom.  Miércoles 4 septiembre 2024 09:00 p. m. Ciudad de México. Tips Para el Exito en la Lactancia\, Mesa Redonda\, por los Doctores\, Diana Espejel H; Horacio Reyes V; José A. García A; Andres Blanco M. \nhttps://us02web.zoom.us/webinar/register/WN_RRDrlH3_T9uI_R9ZoTrSnA \n \nPróxima Conferencia_4 Septiembre (Formato PDF
URL:http://www.ciberpediatras.org/event/tips-para-el-exito-en-la-lactancia/
CATEGORIES:Conferencia On-Line
END:VEVENT
END:VCALENDAR