BEGIN:VCALENDAR
VERSION:2.0
PRODID:-//Ciberpeds AC - ECPv6.15.13//NONSGML v1.0//EN
CALSCALE:GREGORIAN
METHOD:PUBLISH
X-WR-CALNAME:Ciberpeds AC
X-ORIGINAL-URL:http://www.ciberpediatras.org
X-WR-CALDESC:Eventos para Ciberpeds AC
REFRESH-INTERVAL;VALUE=DURATION:PT1H
X-Robots-Tag:noindex
X-PUBLISHED-TTL:PT1H
BEGIN:VTIMEZONE
TZID:America/Monterrey
BEGIN:STANDARD
TZOFFSETFROM:-0600
TZOFFSETTO:-0600
TZNAME:CST
DTSTART:20230101T000000
END:STANDARD
END:VTIMEZONE
BEGIN:VEVENT
DTSTART;TZID=America/Monterrey:20240828T210000
DTEND;TZID=America/Monterrey:20240828T220000
DTSTAMP:20260423T091602
CREATED:20240821T023014Z
LAST-MODIFIED:20240821T023021Z
UID:7475-1724878800-1724882400@www.ciberpediatras.org
SUMMARY:Diagnóstico y Tratamiento de Convulsiones en Pediatría
DESCRIPTION:Estimado Pediatra Latinoamericano\, lo invitamos a unirse al seminario web Zoom. \nMiércoles: 28 agosto 2024 09:00 p. m. Ciudad de México \nDiagnóstico y Tratamiento de Convulsiones en Pediatría\, Por el Dr. Jesús Erick Piña Garza Neurólogo Pediatra de  Nashville Tn. USA \nhttps://tinyurl.com/pm89k327 \n   \nProxima conferencia 28 (Formato PDF)_Agosto_2024
URL:http://www.ciberpediatras.org/event/diagnostico-y-tratamiento-de-convulsiones-en-pediatria/
CATEGORIES:Conferencia On-Line
END:VEVENT
END:VCALENDAR