BEGIN:VCALENDAR
VERSION:2.0
PRODID:-//Ciberpeds AC - ECPv6.15.13//NONSGML v1.0//EN
CALSCALE:GREGORIAN
METHOD:PUBLISH
X-WR-CALNAME:Ciberpeds AC
X-ORIGINAL-URL:http://www.ciberpediatras.org
X-WR-CALDESC:Eventos para Ciberpeds AC
REFRESH-INTERVAL;VALUE=DURATION:PT1H
X-Robots-Tag:noindex
X-PUBLISHED-TTL:PT1H
BEGIN:VTIMEZONE
TZID:America/Monterrey
BEGIN:STANDARD
TZOFFSETFROM:-0600
TZOFFSETTO:-0600
TZNAME:CST
DTSTART:20230101T000000
END:STANDARD
END:VTIMEZONE
BEGIN:VEVENT
DTSTART;TZID=America/Monterrey:20240807T210000
DTEND;TZID=America/Monterrey:20240807T220000
DTSTAMP:20260423T103312
CREATED:20240802T182058Z
LAST-MODIFIED:20240802T182212Z
UID:7399-1723064400-1723068000@www.ciberpediatras.org
SUMMARY:Novedades en Enfermedades Infecciosas y Lactancia
DESCRIPTION:Estimado Pediatra Latinoamericano. Lo invitamos al seminario web Zoom.  Miércoles 7 ago 2024 09:00 p. m. Ciudad de México.                                                                                                                                                     Novedades en Enfermedades Infecciosas y Lactancia\, por la Dra Claudia López Enríquez Infectóloga Pediatra de Cd de México.                                                                                                                                             Inscríbase en la fecha y horario que más le convengan: \nhttps://us02web.zoom.us/webinar/register/WN_48KdD9mAQ5iREoRoBcAkFQ \nProxima conferencia 7_Agosto_2024_Formato PDF
URL:http://www.ciberpediatras.org/event/7399/
CATEGORIES:Conferencia On-Line
END:VEVENT
END:VCALENDAR