BEGIN:VCALENDAR
VERSION:2.0
PRODID:-//Ciberpeds AC - ECPv6.15.13//NONSGML v1.0//EN
CALSCALE:GREGORIAN
METHOD:PUBLISH
X-WR-CALNAME:Ciberpeds AC
X-ORIGINAL-URL:http://www.ciberpediatras.org
X-WR-CALDESC:Eventos para Ciberpeds AC
REFRESH-INTERVAL;VALUE=DURATION:PT1H
X-Robots-Tag:noindex
X-PUBLISHED-TTL:PT1H
BEGIN:VTIMEZONE
TZID:America/Monterrey
BEGIN:STANDARD
TZOFFSETFROM:-0600
TZOFFSETTO:-0600
TZNAME:CST
DTSTART:20230101T000000
END:STANDARD
END:VTIMEZONE
BEGIN:VEVENT
DTSTART;TZID=America/Monterrey:20240731T210000
DTEND;TZID=America/Monterrey:20240731T220000
DTSTAMP:20260423T103357
CREATED:20240726T183428Z
LAST-MODIFIED:20240726T183428Z
UID:7376-1722459600-1722463200@www.ciberpediatras.org
SUMMARY:Protocolo de Abordaje en Niños con Tos Crónic
DESCRIPTION:Estimado Pediatra Latinoamericano.  Lo invitamos a unirse al seminario web Zoom.                                                                   Miércoles 31 julio 2024 09:00 p. m. Ciudad de México.                                                                                                  Protocolo de Abordaje en Niños con Tos Crónica\, por el Dr. Jesús Guajardo\, Alergólogo Pediatra de la Cd de San Antonio Tx \nhttps://us02web.zoom.us/webinar/register/WN_xAH-3UeRTVOKYmrxDJNmUw \n  \n  \nProxima Conferencia_FORMATO PDF_HACER CLICK EN EL TITULO
URL:http://www.ciberpediatras.org/event/protocolo-de-abordaje-en-ninos-con-tos-cronic/
CATEGORIES:Conferencia On-Line
END:VEVENT
END:VCALENDAR