BEGIN:VCALENDAR
VERSION:2.0
PRODID:-//Ciberpeds AC - ECPv6.15.13//NONSGML v1.0//EN
CALSCALE:GREGORIAN
METHOD:PUBLISH
X-WR-CALNAME:Ciberpeds AC
X-ORIGINAL-URL:http://www.ciberpediatras.org
X-WR-CALDESC:Eventos para Ciberpeds AC
REFRESH-INTERVAL;VALUE=DURATION:PT1H
X-Robots-Tag:noindex
X-PUBLISHED-TTL:PT1H
BEGIN:VTIMEZONE
TZID:America/Monterrey
BEGIN:STANDARD
TZOFFSETFROM:-0600
TZOFFSETTO:-0600
TZNAME:CST
DTSTART:20230101T000000
END:STANDARD
END:VTIMEZONE
BEGIN:VEVENT
DTSTART;TZID=America/Monterrey:20240703T210000
DTEND;TZID=America/Monterrey:20240703T220000
DTSTAMP:20260423T115713
CREATED:20240629T024839Z
LAST-MODIFIED:20240629T025032Z
UID:7235-1720040400-1720044000@www.ciberpediatras.org
SUMMARY:Enfermedades Raras y Lactancia Materna
DESCRIPTION:Estimado Pediatra Latinoamericano.  Conferencia Seminario CIBERPEDS-CONAPEME\, Miércoles 3 julio 2024 09:00 p. m. Ciudad de México.  Enfermedades Raras y Lactancia Materna\, Maestra en Nutrición Sara Guillén López.                                                                                                                      Inscríbase en la fecha y horario que más le convengan: \nhttps://us02web.zoom.us/webinar/register/WN_96_pqN8EQjOlhwZOWil_XA \n \nPróxima conferencia 3_julio_2024\, Formato PDF
URL:http://www.ciberpediatras.org/event/7235/
CATEGORIES:Conferencia On-Line
END:VEVENT
END:VCALENDAR