BEGIN:VCALENDAR
VERSION:2.0
PRODID:-//Ciberpeds AC - ECPv6.15.13//NONSGML v1.0//EN
CALSCALE:GREGORIAN
METHOD:PUBLISH
X-WR-CALNAME:Ciberpeds AC
X-ORIGINAL-URL:http://www.ciberpediatras.org
X-WR-CALDESC:Eventos para Ciberpeds AC
REFRESH-INTERVAL;VALUE=DURATION:PT1H
X-Robots-Tag:noindex
X-PUBLISHED-TTL:PT1H
BEGIN:VTIMEZONE
TZID:America/Monterrey
BEGIN:STANDARD
TZOFFSETFROM:-0600
TZOFFSETTO:-0600
TZNAME:CST
DTSTART:20230101T000000
END:STANDARD
END:VTIMEZONE
BEGIN:VEVENT
DTSTART;TZID=America/Monterrey:20240626T210000
DTEND;TZID=America/Monterrey:20240626T220000
DTSTAMP:20260423T131749
CREATED:20240623T003039Z
LAST-MODIFIED:20240623T003604Z
UID:7208-1719435600-1719439200@www.ciberpediatras.org
SUMMARY:Lenguaje y Audición\, Etapas tempranas de Neurodesarrollo\, Focos Rojos
DESCRIPTION:Estimado Pediatra Latinoamericano. Lo invitamos a unirse al seminario web Zoom.                                   Miércoles 26 junio 2024 09:00 p. m. Lenguaje y Audición\, Etapas tempranas de Neurodesarrollo\, Focos Rojos por la Dra. En Ciencias Biomédicas\, Alma Janeth Moreno Aguirre\, Estado de México.     Inscríbase en la fecha y horario que más le convengan: \nhttps://us02web.zoom.us/webinar/register/WN_RntTj8h4QrG5TbAMjHPZaw \n  \n  \nPróxima conferencia 26_junio_2024                                                                             Formato PDF con liga incluida:
URL:http://www.ciberpediatras.org/event/7208/
CATEGORIES:Conferencia On-Line
END:VEVENT
END:VCALENDAR