BEGIN:VCALENDAR
VERSION:2.0
PRODID:-//Ciberpeds AC - ECPv6.15.13//NONSGML v1.0//EN
CALSCALE:GREGORIAN
METHOD:PUBLISH
X-WR-CALNAME:Ciberpeds AC
X-ORIGINAL-URL:http://www.ciberpediatras.org
X-WR-CALDESC:Eventos para Ciberpeds AC
REFRESH-INTERVAL;VALUE=DURATION:PT1H
X-Robots-Tag:noindex
X-PUBLISHED-TTL:PT1H
BEGIN:VTIMEZONE
TZID:America/Monterrey
BEGIN:STANDARD
TZOFFSETFROM:-0600
TZOFFSETTO:-0600
TZNAME:CST
DTSTART:20230101T000000
END:STANDARD
END:VTIMEZONE
BEGIN:VEVENT
DTSTART;TZID=America/Monterrey:20240612T210000
DTEND;TZID=America/Monterrey:20240612T220000
DTSTAMP:20260423T131750
CREATED:20240608T040621Z
LAST-MODIFIED:20240608T040655Z
UID:7161-1718226000-1718229600@www.ciberpediatras.org
SUMMARY:Dificultad Respiratoria Aguda de Resolución Quirúrgica del Recién Nacido
DESCRIPTION:Estimado Pediatra Latinoamericano\, lo invitamos a unirse al seminario web Zoom. Miércoles 12 junio 2024 09:00 p. m. Ciudad de México.   Dificultad Respiratoria Aguda de Resolución Quirúrgica del Recién Nacido\, por el Cirujano Pediatra Dr. Carlos García Hernández. Inscríbase en la fecha y horario que más le convengan: \nhttps://us02web.zoom.us/webinar/register/WN_xJJgCjMNSJiaufJ2457NhQ.  Luego de la inscripción\, recibirá un correo electrónico de confirmación con información para unirse al seminario web. \n  \n  \nproxima conferencia 12_junio_2024
URL:http://www.ciberpediatras.org/event/ificultad-respiratoria-aguda-de-resolucion-quirurgica-del-recien-nacido/
CATEGORIES:Conferencia On-Line
END:VEVENT
END:VCALENDAR