BEGIN:VCALENDAR
VERSION:2.0
PRODID:-//Ciberpeds AC - ECPv6.15.13//NONSGML v1.0//EN
CALSCALE:GREGORIAN
METHOD:PUBLISH
X-ORIGINAL-URL:http://www.ciberpediatras.org
X-WR-CALDESC:Eventos para Ciberpeds AC
REFRESH-INTERVAL;VALUE=DURATION:PT1H
X-Robots-Tag:noindex
X-PUBLISHED-TTL:PT1H
BEGIN:VTIMEZONE
TZID:America/Monterrey
BEGIN:STANDARD
TZOFFSETFROM:-0600
TZOFFSETTO:-0600
TZNAME:CST
DTSTART:20230101T000000
END:STANDARD
END:VTIMEZONE
BEGIN:VEVENT
DTSTART;TZID=America/Monterrey:20240521T080000
DTEND;TZID=America/Monterrey:20240521T170000
DTSTAMP:20260423T141828
CREATED:20240521T214717Z
LAST-MODIFIED:20240522T173209Z
UID:7055-1716278400-1716310800@www.ciberpediatras.org
SUMMARY:Muerte Cerebral
DESCRIPTION:Estimado Pediatra Latinoamericano. Lo invitamos a unirse al seminario web Zoom. Miércoles 22 mayo 2024 09:00 p. m. Ciudad de México.    Muerte Cerebral\, por el Dr.  Javier Gelvez\, Neuropediatra de la Cd de Forth Wort Tx.                                         Inscríbase en la fecha y horario que más le convengan: \nhttps://us02web.zoom.us/webinar/register/WN_DIQaFk0eQfKFepHGTIl38Q
URL:http://www.ciberpediatras.org/event/muerte-cerebral/
CATEGORIES:Conferencia On-Line
END:VEVENT
END:VCALENDAR