BEGIN:VCALENDAR
VERSION:2.0
PRODID:-//Ciberpeds AC - ECPv6.15.13//NONSGML v1.0//EN
CALSCALE:GREGORIAN
METHOD:PUBLISH
X-WR-CALNAME:Ciberpeds AC
X-ORIGINAL-URL:http://www.ciberpediatras.org
X-WR-CALDESC:Eventos para Ciberpeds AC
REFRESH-INTERVAL;VALUE=DURATION:PT1H
X-Robots-Tag:noindex
X-PUBLISHED-TTL:PT1H
BEGIN:VTIMEZONE
TZID:America/Monterrey
BEGIN:STANDARD
TZOFFSETFROM:-0600
TZOFFSETTO:-0600
TZNAME:CST
DTSTART:20230101T000000
END:STANDARD
END:VTIMEZONE
BEGIN:VEVENT
DTSTART;TZID=America/Monterrey:20240501T210000
DTEND;TZID=America/Monterrey:20240501T220000
DTSTAMP:20260423T141942
CREATED:20240426T193309Z
LAST-MODIFIED:20240426T204149Z
UID:6999-1714597200-1714600800@www.ciberpediatras.org
SUMMARY:¿Como Aumentar la Producción de Leche Materna?
DESCRIPTION:Estimado Pediatra Latinoamericano\, lo invitamos a unirse al seminario web Zoom. \nMiércoles 1 mayo 2024 09:00 p. m. Ciudad de México \n¿Como Aumentar la Producción de Leche Materna? Dres. Horacio Reyes Vázquez\, Luz Adriana Rodriguez Luna\, Enrique Mendoza López. https://us02web.zoom.us/webinar/register/WN_mN14vZExS7y_ahFcncyPDA \n 
URL:http://www.ciberpediatras.org/event/como-aumentar-la-produccion-de-leche-materna/
CATEGORIES:Conferencia On-Line
END:VEVENT
END:VCALENDAR