BEGIN:VCALENDAR
VERSION:2.0
PRODID:-//Ciberpeds AC - ECPv6.15.13//NONSGML v1.0//EN
CALSCALE:GREGORIAN
METHOD:PUBLISH
X-ORIGINAL-URL:http://www.ciberpediatras.org
X-WR-CALDESC:Eventos para Ciberpeds AC
REFRESH-INTERVAL;VALUE=DURATION:PT1H
X-Robots-Tag:noindex
X-PUBLISHED-TTL:PT1H
BEGIN:VTIMEZONE
TZID:America/Monterrey
BEGIN:STANDARD
TZOFFSETFROM:-0600
TZOFFSETTO:-0600
TZNAME:CST
DTSTART:20230101T000000
END:STANDARD
END:VTIMEZONE
BEGIN:VEVENT
DTSTART;TZID=America/Monterrey:20240417T210000
DTEND;TZID=America/Monterrey:20240417T220000
DTSTAMP:20260423T154150
CREATED:20240412T220155Z
LAST-MODIFIED:20240414T000208Z
UID:6947-1713387600-1713391200@www.ciberpediatras.org
SUMMARY:Endoscopia Avanzada en Gastroenterología Pediátrica. ¿Qué hay de nuevo en 2024?
DESCRIPTION:Estimado Pediatra Latinoamericno \nlo invitamos a unirse al seminario web Zoom. \nMiércoles 17 abril 2024 09:00 p. m. Ciudad de México \nEndoscopia Avanzada en Gastroenterología Pediátrica. ¿Qué hay de nuevo en 2024?\, por el Dr. Clifton Huang\, Médico del Cookchildrens de DFW. \nhttps://us02web.zoom.us/webinar/register/WN_0hQZTkIWTISXjIIadcUMeQ \n \n 
URL:http://www.ciberpediatras.org/event/microendoscopia-de-tubo-digestivo/
CATEGORIES:Conferencia On-Line
END:VEVENT
END:VCALENDAR