BEGIN:VCALENDAR
VERSION:2.0
PRODID:-//Ciberpeds AC - ECPv6.15.13//NONSGML v1.0//EN
CALSCALE:GREGORIAN
METHOD:PUBLISH
X-ORIGINAL-URL:http://www.ciberpediatras.org
X-WR-CALDESC:Eventos para Ciberpeds AC
REFRESH-INTERVAL;VALUE=DURATION:PT1H
X-Robots-Tag:noindex
X-PUBLISHED-TTL:PT1H
BEGIN:VTIMEZONE
TZID:America/Monterrey
BEGIN:STANDARD
TZOFFSETFROM:-0600
TZOFFSETTO:-0600
TZNAME:CST
DTSTART:20230101T000000
END:STANDARD
END:VTIMEZONE
BEGIN:VEVENT
DTSTART;TZID=America/Monterrey:20240110T210000
DTEND;TZID=America/Monterrey:20240110T220000
DTSTAMP:20260423T190518
CREATED:20240107T010428Z
LAST-MODIFIED:20240107T010911Z
UID:6593-1704920400-1704924000@www.ciberpediatras.org
SUMMARY:Quemadura Química de Esófago
DESCRIPTION:Estimado Pediatra Latinoamericano. Lo invitamos a unirse al seminario web Zoom. Miércoles 10 enero 2024 09:00 p. m. Ciudad de México.  Quemadura Química de Esófago por el Dr. Guillermo Yanowsky Reyes. Cirujano Pediatra de la Cd de Guadalajara Jal.
URL:http://www.ciberpediatras.org/event/6593/
CATEGORIES:Conferencia On-Line
END:VEVENT
END:VCALENDAR