BEGIN:VCALENDAR
VERSION:2.0
PRODID:-//Ciberpeds AC - ECPv6.15.13//NONSGML v1.0//EN
CALSCALE:GREGORIAN
METHOD:PUBLISH
X-WR-CALNAME:Ciberpeds AC
X-ORIGINAL-URL:http://www.ciberpediatras.org
X-WR-CALDESC:Eventos para Ciberpeds AC
REFRESH-INTERVAL;VALUE=DURATION:PT1H
X-Robots-Tag:noindex
X-PUBLISHED-TTL:PT1H
BEGIN:VTIMEZONE
TZID:America/Monterrey
BEGIN:DAYLIGHT
TZOFFSETFROM:-0600
TZOFFSETTO:-0500
TZNAME:CDT
DTSTART:20220403T080000
END:DAYLIGHT
BEGIN:STANDARD
TZOFFSETFROM:-0500
TZOFFSETTO:-0600
TZNAME:CST
DTSTART:20221030T070000
END:STANDARD
END:VTIMEZONE
BEGIN:VEVENT
DTSTART;TZID=America/Monterrey:20231004T210000
DTEND;TZID=America/Monterrey:20231004T220000
DTSTAMP:20260423T221812
CREATED:20230930T004627Z
LAST-MODIFIED:20230930T004627Z
UID:6356-1696453200-1696456800@www.ciberpediatras.org
SUMMARY:Frenillo y Lactancia\, Mito o Realidad
DESCRIPTION:Estimado Pediatra Latinoamericano. Lo invitamos a unirse al seminario web Zoom. Miércoles 4 octubre 2023 09:00 p. m. Ciudad de México. Frenillo y Lactancia\, Mito o Realidad\, por la Dra. Daniela Carvalho\, Otorrinolaringologa del Hospital Rady Children´s Hospital de SanDiego Ca.. Inscríbase en la fecha y horario que más le convengan:https://us02web.zoom.us/webinar/register/WN_6Is_gc1lT0elBwfnhpOfOA \nLuego de la inscripción\, recibirá un correo electrónico de confirmación con información para unirse al seminario web. \n  \n 
URL:http://www.ciberpediatras.org/event/frenillo-y-lactancia-mito-o-realidad/
CATEGORIES:Conferencia On-Line
END:VEVENT
END:VCALENDAR