BEGIN:VCALENDAR
VERSION:2.0
PRODID:-//Ciberpeds AC - ECPv6.15.13//NONSGML v1.0//EN
CALSCALE:GREGORIAN
METHOD:PUBLISH
X-WR-CALNAME:Ciberpeds AC
X-ORIGINAL-URL:http://www.ciberpediatras.org
X-WR-CALDESC:Eventos para Ciberpeds AC
REFRESH-INTERVAL;VALUE=DURATION:PT1H
X-Robots-Tag:noindex
X-PUBLISHED-TTL:PT1H
BEGIN:VTIMEZONE
TZID:America/Monterrey
BEGIN:DAYLIGHT
TZOFFSETFROM:-0600
TZOFFSETTO:-0500
TZNAME:CDT
DTSTART:20220403T080000
END:DAYLIGHT
BEGIN:STANDARD
TZOFFSETFROM:-0500
TZOFFSETTO:-0600
TZNAME:CST
DTSTART:20221030T070000
END:STANDARD
END:VTIMEZONE
BEGIN:VEVENT
DTSTART;TZID=America/Monterrey:20230906T210000
DTEND;TZID=America/Monterrey:20230906T220000
DTSTAMP:20260423T232925
CREATED:20230904T024007Z
LAST-MODIFIED:20230904T024007Z
UID:6305-1694034000-1694037600@www.ciberpediatras.org
SUMMARY:El punto de vista del gastroenterólogo y la lactancia
DESCRIPTION:Estimado Pediatra Latinoamericano. Lo invitamos a unirse al seminario web Zoom. Miércoles 6 sept 2023 09:00 p. m. Ciudad de México. El punto de vista del gastroenterólogo y la lactancia\, por el Dr Salvador Villalpando Carrion\, Gastroenterólogo Pediatra del Hospital Infantil de México. Inscríbase en la fecha y horario que más le convengan: https://us02web.zoom.us/webinar/register/WN_oGZk19utSayYS5Ssr5obYA \nLuego de la inscripción\, recibirá un correo electrónico de confirmación con información para unirse al seminario web.
URL:http://www.ciberpediatras.org/event/el-punto-de-vista-del-gastroenterologo-y-la-lactancia/
CATEGORIES:Conferencia On-Line
END:VEVENT
END:VCALENDAR