BEGIN:VCALENDAR
VERSION:2.0
PRODID:-//Ciberpeds AC - ECPv6.15.13//NONSGML v1.0//EN
CALSCALE:GREGORIAN
METHOD:PUBLISH
X-ORIGINAL-URL:http://www.ciberpediatras.org
X-WR-CALDESC:Eventos para Ciberpeds AC
REFRESH-INTERVAL;VALUE=DURATION:PT1H
X-Robots-Tag:noindex
X-PUBLISHED-TTL:PT1H
BEGIN:VTIMEZONE
TZID:America/Monterrey
BEGIN:DAYLIGHT
TZOFFSETFROM:-0600
TZOFFSETTO:-0500
TZNAME:CDT
DTSTART:20220403T080000
END:DAYLIGHT
BEGIN:STANDARD
TZOFFSETFROM:-0500
TZOFFSETTO:-0600
TZNAME:CST
DTSTART:20221030T070000
END:STANDARD
END:VTIMEZONE
BEGIN:VEVENT
DTSTART;TZID=America/Monterrey:20230826T090000
DTEND;TZID=America/Monterrey:20230826T100000
DTSTAMP:20260424T003231
CREATED:20230824T235423Z
LAST-MODIFIED:20230824T235423Z
UID:6281-1693040400-1693044000@www.ciberpediatras.org
SUMMARY:Habilidades para la Vida\, actualidades
DESCRIPTION:Estimado Miembro de AMSA. Lo invitamos a unirse al seminario web Zoom. Sábado 26 agosto 2023 09:00 a. m. Ciudad de México.   Habilidades para la Vida\, actualidades\, por el Dr Alberto Simioni. Pediatra de Argentina.  Inscríbase en la fecha y horario que más le convengan: https://us02web.zoom.us/webinar/register/WN_gotb8z3eT2OLOsF7_3FNQQ \nLuego de la inscripción\, recibirá un correo electrónico de confirmación con información para unirse al seminario web.
URL:http://www.ciberpediatras.org/event/habilidades-para-la-vida-actualidades/
CATEGORIES:Conferencia On-Line
END:VEVENT
END:VCALENDAR