BEGIN:VCALENDAR
VERSION:2.0
PRODID:-//Ciberpeds AC - ECPv6.15.13//NONSGML v1.0//EN
CALSCALE:GREGORIAN
METHOD:PUBLISH
X-ORIGINAL-URL:http://www.ciberpediatras.org
X-WR-CALDESC:Eventos para Ciberpeds AC
REFRESH-INTERVAL;VALUE=DURATION:PT1H
X-Robots-Tag:noindex
X-PUBLISHED-TTL:PT1H
BEGIN:VTIMEZONE
TZID:America/Monterrey
BEGIN:STANDARD
TZOFFSETFROM:-0600
TZOFFSETTO:-0600
TZNAME:CST
DTSTART:20250101T000000
END:STANDARD
END:VTIMEZONE
BEGIN:VEVENT
DTSTART;TZID=America/Monterrey:20260304T210000
DTEND;TZID=America/Monterrey:20260304T220000
DTSTAMP:20260420T053538
CREATED:20260227T041152Z
LAST-MODIFIED:20260227T041152Z
UID:9337-1772658000-1772661600@www.ciberpediatras.org
SUMMARY:Obstrucción del Tracto de Salida Gástrica
DESCRIPTION:Estimado Pediatra Latinoamericano\, Le invitamos a registrarse en un seminario de Ciberpeds-Conapeme.   Miércoles 4 marzo 2026 09:00 p. m. Ciudad de México.                                                                                     Obstrucción del Tracto de Salida Gástrica\, por el Dr. Diego Alberto Millan Rubio\, Cirujano Pediatra de Cd Obregón Son. \n \nMarzo_4_2026_ Formato PDF\nhttps://us02web.zoom.us/webinar/register/WN_vIMURm_fSMKFH0ajjAPvLg
URL:http://www.ciberpediatras.org/event/obstruccion-del-tracto-de-salida-gastrica/
CATEGORIES:Conferencia On-Line
END:VEVENT
BEGIN:VEVENT
DTSTART;TZID=America/Monterrey:20260311T210000
DTEND;TZID=America/Monterrey:20260311T220000
DTSTAMP:20260420T053538
CREATED:20260309T031520Z
LAST-MODIFIED:20260309T192508Z
UID:9354-1773262800-1773266400@www.ciberpediatras.org
SUMMARY:Lactancia y Desarrollo Infantil: Mitos y Realidades\,
DESCRIPTION:Estimado Pediatra Latinoamericano \nLe invitamos a registrarse en un seminario de Ciberpeds-Conapeme \nMiércoles 11 marzo 2026 09:00 p. m. Ciudad de México \nLactancia y Desarrollo Infantil: Mitos y Realidades\, por el Dr. Antonio Rizzoli Córdova\, Neurólogo Pediatra de la Cd de México \n \nMarzo_11_2026F Formato PDF\n\nhttps://us02web.zoom.us/webinar/register/WN_n_IDiOPQR-6HwTICmT3Qsg
URL:http://www.ciberpediatras.org/event/lactancia-y-desarrollo-infantil-mitos-y-realidades/
CATEGORIES:Conferencia On-Line
END:VEVENT
BEGIN:VEVENT
DTSTART;TZID=America/Monterrey:20260318T210000
DTEND;TZID=America/Monterrey:20260318T220000
DTSTAMP:20260420T053538
CREATED:20260314T040840Z
LAST-MODIFIED:20260314T040944Z
UID:9369-1773867600-1773871200@www.ciberpediatras.org
SUMMARY:Microbiota y Microbioma Intestinal\, Entre las Llaves del Reino y una Nueva Caja de Pandora
DESCRIPTION:Estimado Pediatra Latinoamericano \nLe invitamos a registrarse en un seminario de Ciberpeds-Conapeme \nMiércoles 18 marzo 2026 10:00 p. m. Ciudad de México \nMicrobiota y Microbioma Intestinal\, Entre las llaves del Reino y una Nueva Caja de Pandora\, por el Dr. Reynaldo Michel Aceves \n \nMarzo_18_2026_Formato PDF\nhttps://us02web.zoom.us/webinar/register/WN_c6KoDP85QWCAoe-z8bfLsQ
URL:http://www.ciberpediatras.org/event/icrobiota-y-microbioma-intestinal-entre-las-llaves-del-reino-y-una-nueva-caja-de-pandora/
CATEGORIES:Conferencia On-Line
END:VEVENT
BEGIN:VEVENT
DTSTART;TZID=America/Monterrey:20260325T210000
DTEND;TZID=America/Monterrey:20260325T220000
DTSTAMP:20260420T053538
CREATED:20260321T033920Z
LAST-MODIFIED:20260321T033920Z
UID:9389-1774472400-1774476000@www.ciberpediatras.org
SUMMARY:Intoxicaciones por Drogas Emergentes en Niños y Adolescentes
DESCRIPTION:Estimado Pediatra Latinoamericano \nLe invitamos a registrarse en un seminario de Ciberpeds-Conapeme \nMiércoles 25 Marzo 2026 09:00 p. m. Ciudad de Méxicoa \nIntoxicaciones por Drogas Emergentes en Niños y Adolescentes\, por el Dr. Jesús del Carmen Madrigal Anaya \n \nMarzo_25_2026_FORMATO_PDF\nhttps://us02web.zoom.us/webinar/register/WN_4e2Bw3qTSRG1KxJ2w4tD7A
URL:http://www.ciberpediatras.org/event/intoxicaciones-por-drogas-emergentes-en-ninos-y-adolescentes/
CATEGORIES:Conferencia On-Line
END:VEVENT
END:VCALENDAR