BEGIN:VCALENDAR
VERSION:2.0
PRODID:-//Ciberpeds AC - ECPv6.15.13//NONSGML v1.0//EN
CALSCALE:GREGORIAN
METHOD:PUBLISH
X-ORIGINAL-URL:http://www.ciberpediatras.org
X-WR-CALDESC:Eventos para Ciberpeds AC
REFRESH-INTERVAL;VALUE=DURATION:PT1H
X-Robots-Tag:noindex
X-PUBLISHED-TTL:PT1H
BEGIN:VTIMEZONE
TZID:America/Monterrey
BEGIN:STANDARD
TZOFFSETFROM:-0600
TZOFFSETTO:-0600
TZNAME:CST
DTSTART:20240101T000000
END:STANDARD
END:VTIMEZONE
BEGIN:VEVENT
DTSTART;TZID=America/Monterrey:20251001T210000
DTEND;TZID=America/Monterrey:20251001T220000
DTSTAMP:20260420T123611
CREATED:20250928T030812Z
LAST-MODIFIED:20250928T191613Z
UID:8678-1759352400-1759356000@www.ciberpediatras.org
SUMMARY:Efectos de la Lactancia Materna en la Epigenética y en la Salud Futura de los Niños
DESCRIPTION:Estimado Pediatra Latinoamericano lo invitamos al seminario Ciberpeds Conapeme   \nMiércoles 1o octubre 2025 09:00 p. m. Ciudad de México \nEfectos de la Lactancia Materna en la Epigenética y en la Salud Futura de los Niños por el  Dr. Rodrigo Moreno Salgados Pediatra de Pamplona España. \n \n  \nPróxima Conferencia 1_octubre_FORMATO PDF\nRegístrese en la siguiente liga: https://us02web.zoom.us/webinar/register/WN_a9UEY33kRCe2fomDzxYX4Q
URL:http://www.ciberpediatras.org/event/efectos-de-la-lactancia-materna-en-la-epigenetica-y-en-la-salud-futura-de-los-ninos/
CATEGORIES:Conferencia On-Line
END:VEVENT
BEGIN:VEVENT
DTSTART;TZID=America/Monterrey:20251004T080000
DTEND;TZID=America/Monterrey:20251004T170000
DTSTAMP:20260420T123611
CREATED:20251005T033915Z
LAST-MODIFIED:20251005T033915Z
UID:8713-1759564800-1759597200@www.ciberpediatras.org
SUMMARY:Actualidades en Tumores Sólidos en Niños y Adolescentes
DESCRIPTION:Estimado Pediatra Latinoamericano\, Le invitamos a registrarse en un seminario web de Zoom \nMiércoles 8 octubre 2025 09:00 p. m. Ciudad de México \nActualidades en Tumores Sólidos en Niños y Adolescentes\, por el Cirujano Pediatra Pablo Lezama del Valle de la Cd de México \n \nPróxima Conferencia 8_octubre_FORMATO PDF\nRegístrese en este sitio\nhttps://us02web.zoom.us/webinar/register/WN_UhTsujv_Ra6bDEIPQt1nYA
URL:http://www.ciberpediatras.org/event/actualidades-en-tumores-solidos-en-ninos-y-adolescentes/
CATEGORIES:Conferencia On-Line
END:VEVENT
BEGIN:VEVENT
DTSTART;TZID=America/Monterrey:20251013T080000
DTEND;TZID=America/Monterrey:20251013T170000
DTSTAMP:20260420T123611
CREATED:20251014T034623Z
LAST-MODIFIED:20251014T034623Z
UID:8730-1760342400-1760374800@www.ciberpediatras.org
SUMMARY:Dermatitis Atópica Actualidades
DESCRIPTION:Estimado Pediatra Latinoamericano\, Le invitamos a registrarse en un seminario web de Zoom \nMiércoles 15 octubre 2025 09:00 p. m. Ciudad de México \nDermatitis Atópica Actualidades\, por la Dra Andrea Venegas Andrade Dermatóloga de la Cd de México \n \nPróxima Conferencia 15_octubre_Formato PDF \nhttps://us02web.zoom.us/webinar/register/WN_wjGTTBy_TOGEyWQZSgm7tA
URL:http://www.ciberpediatras.org/event/dermatitis-atopica-actualidades/
CATEGORIES:Conferencia On-Line
END:VEVENT
BEGIN:VEVENT
DTSTART;TZID=America/Monterrey:20251022T210000
DTEND;TZID=America/Monterrey:20251022T220000
DTSTAMP:20260420T123611
CREATED:20251017T200306Z
LAST-MODIFIED:20251017T200317Z
UID:8744-1761166800-1761170400@www.ciberpediatras.org
SUMMARY:Perlas de Diagnóstico Visual en Pediatría y Neonatología
DESCRIPTION:Estimado Pediatra Latinoamericano\, Le invitamos a registrarse en un seminario web de Zoom \nMiércoles 22 octubre 2025 09:00 p. m. Ciudad de México \nPerlas de Diagnóstico Visual en Pediatría y Neonatología por el Dr. Gerardo Cabrera Meza\, Neonatólogo del TCH en Houston Texas \n \nPróxima Conferencia 22_octubre_ FORMATO PDF\nhttps://us02web.zoom.us/webinar/register/WN_hwg5gd5wQkeTiJfWFiQs1Q
URL:http://www.ciberpediatras.org/event/perlas-de-diagnostico-visual-en-pediatria-y-neonatologia/
CATEGORIES:Conferencia On-Line
END:VEVENT
BEGIN:VEVENT
DTSTART;TZID=America/Monterrey:20251029T210000
DTEND;TZID=America/Monterrey:20251029T220000
DTSTAMP:20260420T123611
CREATED:20251026T040119Z
LAST-MODIFIED:20251026T040119Z
UID:8751-1761771600-1761775200@www.ciberpediatras.org
SUMMARY:Adolescencia y Vínculo Familiar
DESCRIPTION:Estimado Pediatra Latinoamericano\, Le invitamos a registrarse en un seminario web de Zoom \nMiércoles 29 oct 2025 09:00 p. m. Ciudad de México  \nAdolescencia y Vínculo Familiar por la Mtra Carmen Reyes Rosales \nRegístrese con antelación en este seminario web: \nPróxima Conferencia 29_octubre_Formato PDF \nhttps://us02web.zoom.us/webinar/register/WN_kxgUQwBqTdqrSwr-GmIkDQ
URL:http://www.ciberpediatras.org/event/adolescencia-y-vinculo-familiar/
CATEGORIES:Conferencia On-Line
END:VEVENT
END:VCALENDAR