BEGIN:VCALENDAR
VERSION:2.0
PRODID:-//Ciberpeds AC - ECPv6.15.13//NONSGML v1.0//EN
CALSCALE:GREGORIAN
METHOD:PUBLISH
X-ORIGINAL-URL:http://www.ciberpediatras.org
X-WR-CALDESC:Eventos para Ciberpeds AC
REFRESH-INTERVAL;VALUE=DURATION:PT1H
X-Robots-Tag:noindex
X-PUBLISHED-TTL:PT1H
BEGIN:VTIMEZONE
TZID:America/Monterrey
BEGIN:STANDARD
TZOFFSETFROM:-0600
TZOFFSETTO:-0600
TZNAME:CST
DTSTART:20240101T000000
END:STANDARD
END:VTIMEZONE
BEGIN:VEVENT
DTSTART;TZID=America/Monterrey:20250903T210000
DTEND;TZID=America/Monterrey:20250903T220000
DTSTAMP:20260420T135157
CREATED:20250829T030156Z
LAST-MODIFIED:20250829T030156Z
UID:8611-1756933200-1756936800@www.ciberpediatras.org
SUMMARY:Lactancia Materna y Alimentación Complementaria: Recomendaciones Actuales
DESCRIPTION:Estimado Pediatra Latinoamericano\, Le invitamos a registrarse en un seminario web de Zoom. \nMiércoles 3 septiembre 2025 09:00 p. m. Ciudad de México \nLactancia Materna y Alimentación Complementaria: Recomendaciones Actuales\, por el Dr. Daniel Alberto Daiel Fuentes Lugo. Pediatra de Campeche \n \nPróxima Conferencia 3_septiembre_Formato-PDF\nhttps://us02web.zoom.us/webinar/register/WN_uDK0_uutRiyuWtYXUVxHTw
URL:http://www.ciberpediatras.org/event/lactancia-materna-y-alimentacion-complementaria-recomendaciones-actuales/
CATEGORIES:Conferencia On-Line
END:VEVENT
BEGIN:VEVENT
DTSTART;TZID=America/Monterrey:20250917T210000
DTEND;TZID=America/Monterrey:20250917T220000
DTSTAMP:20260420T135157
CREATED:20250914T040837Z
LAST-MODIFIED:20250914T040837Z
UID:8655-1758142800-1758146400@www.ciberpediatras.org
SUMMARY:Cartilla Nacional de Salud
DESCRIPTION:Estimado Pediatra Latinoamericano \nLe invitamos a registrarse en un seminario web de Zoom. \nMiércoles 17 septiembre 2025 09:00 p. m. Ciudad de México \nCartilla Nacional de Salud\, por el Dr. Reynaldo Michel Aceves\, pediatra de la Cd de México \n \nPróxima Conferencia 17_septiembre_FORMATO PDF\nRegístrese con antelación en este seminario web: \nhttps://us02web.zoom.us/webinar/register/WN_-W7fl8WJTgawH5Mxe12aFg
URL:http://www.ciberpediatras.org/event/cartilla-nacional-de-salud/
CATEGORIES:Conferencia On-Line
END:VEVENT
BEGIN:VEVENT
DTSTART;TZID=America/Monterrey:20250924T210000
DTEND;TZID=America/Monterrey:20250924T220000
DTSTAMP:20260420T135157
CREATED:20250920T140648Z
LAST-MODIFIED:20250920T141306Z
UID:8661-1758747600-1758751200@www.ciberpediatras.org
SUMMARY:Crisis Convulsivas Febriles
DESCRIPTION:Estimado Pediatra Latinoamericano loinvitamos al seminari Cibrpeds Conapeme Miércoles 24 septiembre 2025 09:00 p. m. Ciudad de México \nCrisis Convulsivas Febriles\,por la Dra Maricarmen Diaz Gómez\, Neuróloga Pediatra de la Cd de Monterrey N.L. \n \nPróxima Conferencia 24_septiembre_FormatoPDF\nRegístrese: \nhttps://us02web.zoom.us/webinar/register/WN_0vZrrfLPTluIsuBEn_Yy2g
URL:http://www.ciberpediatras.org/event/crisis-convulsivas-febriles/
CATEGORIES:Conferencia On-Line
END:VEVENT
END:VCALENDAR