BEGIN:VCALENDAR
VERSION:2.0
PRODID:-//Ciberpeds AC - ECPv6.15.13//NONSGML v1.0//EN
CALSCALE:GREGORIAN
METHOD:PUBLISH
X-ORIGINAL-URL:http://www.ciberpediatras.org
X-WR-CALDESC:Eventos para Ciberpeds AC
REFRESH-INTERVAL;VALUE=DURATION:PT1H
X-Robots-Tag:noindex
X-PUBLISHED-TTL:PT1H
BEGIN:VTIMEZONE
TZID:America/Monterrey
BEGIN:STANDARD
TZOFFSETFROM:-0600
TZOFFSETTO:-0600
TZNAME:CST
DTSTART:20230101T000000
END:STANDARD
END:VTIMEZONE
BEGIN:VEVENT
DTSTART;TZID=America/Monterrey:20240403T210000
DTEND;TZID=America/Monterrey:20240403T220000
DTSTAMP:20260423T142757
CREATED:20240329T164518Z
LAST-MODIFIED:20240329T164518Z
UID:6890-1712178000-1712181600@www.ciberpediatras.org
SUMMARY:Crononutrición y Lactancia Materna
DESCRIPTION:Estimado Pediatra Latinoamericano \nlo invitamos a unirse al seminario web Zoom. \nMiércoles 3 abril 2024 09:00 p. m. Ciudad de México \nCrononutrición y Lactancia Materna por el  Dr. Mario Daniel Caba Flores\, Pediatra de Xalapa Ver \nInscríbase en la fecha y horario que más le convengan: \nhttps://us02web.zoom.us/webinar/register/WN_kYuVD9R5Qe-dWUnkQ3pnVw \n 
URL:http://www.ciberpediatras.org/event/crononutricion-y-lactancia-materna/
CATEGORIES:Conferencia On-Line
END:VEVENT
BEGIN:VEVENT
DTSTART;TZID=America/Monterrey:20240410T210000
DTEND;TZID=America/Monterrey:20240410T220000
DTSTAMP:20260423T142757
CREATED:20240407T004108Z
LAST-MODIFIED:20240407T173554Z
UID:6918-1712782800-1712786400@www.ciberpediatras.org
SUMMARY:Neumonía Necrosante en Pediatría
DESCRIPTION:Estimado Pediatra Latinoamericano. Lo invitamos a unirse al seminario web Zoom. Miércoles 10 abril 2024 09:00 p. m. Ciudad de México.  Neumonía Necrosante en Pediatría por el Dr. Ricardo Villalpando Canchola. Inscríbase en la fecha y horario que más le convengan: https://us02web.zoom.us/webinar/register/WN_lbzj_3F6SbqyKtK21QY-JQ \n  
URL:http://www.ciberpediatras.org/event/abordaje-quirurgico-del-empiema/
CATEGORIES:Conferencia On-Line
END:VEVENT
BEGIN:VEVENT
DTSTART;TZID=America/Monterrey:20240417T210000
DTEND;TZID=America/Monterrey:20240417T220000
DTSTAMP:20260423T142757
CREATED:20240412T220155Z
LAST-MODIFIED:20240414T000208Z
UID:6947-1713387600-1713391200@www.ciberpediatras.org
SUMMARY:Endoscopia Avanzada en Gastroenterología Pediátrica. ¿Qué hay de nuevo en 2024?
DESCRIPTION:Estimado Pediatra Latinoamericno \nlo invitamos a unirse al seminario web Zoom. \nMiércoles 17 abril 2024 09:00 p. m. Ciudad de México \nEndoscopia Avanzada en Gastroenterología Pediátrica. ¿Qué hay de nuevo en 2024?\, por el Dr. Clifton Huang\, Médico del Cookchildrens de DFW. \nhttps://us02web.zoom.us/webinar/register/WN_0hQZTkIWTISXjIIadcUMeQ \n \n 
URL:http://www.ciberpediatras.org/event/microendoscopia-de-tubo-digestivo/
CATEGORIES:Conferencia On-Line
END:VEVENT
END:VCALENDAR