BEGIN:VCALENDAR
VERSION:2.0
PRODID:-//Ciberpeds AC - ECPv6.15.13//NONSGML v1.0//EN
CALSCALE:GREGORIAN
METHOD:PUBLISH
X-ORIGINAL-URL:http://www.ciberpediatras.org
X-WR-CALDESC:Eventos para Ciberpeds AC
REFRESH-INTERVAL;VALUE=DURATION:PT1H
X-Robots-Tag:noindex
X-PUBLISHED-TTL:PT1H
BEGIN:VTIMEZONE
TZID:America/Monterrey
BEGIN:STANDARD
TZOFFSETFROM:-0600
TZOFFSETTO:-0600
TZNAME:CST
DTSTART:20230101T000000
END:STANDARD
END:VTIMEZONE
BEGIN:VEVENT
DTSTART;TZID=America/Monterrey:20240306T210000
DTEND;TZID=America/Monterrey:20240306T220000
DTSTAMP:20260423T152753
CREATED:20240304T194209Z
LAST-MODIFIED:20240305T160415Z
UID:6808-1709758800-1709762400@www.ciberpediatras.org
SUMMARY:Salud Mental y Lactancia Materna
DESCRIPTION:Estimado Pediatra Latinoamericano. Lo invitamos a unirse al seminario web Zoom.                                                                 Miércoles 6 de marzo 2024 09:00 p. m. Ciudad de México.                                                                                                 Salud Mental y Lactancia Materna\, Por la Psic. María Ignacia García\, Pediatra de Chile \nhttps://us02web.zoom.us/webinar/register/WN_vSknDVITR6qCO411Qu6F7Q
URL:http://www.ciberpediatras.org/event/salud-mental-y-lactancia-materna/
CATEGORIES:Conferencia On-Line
END:VEVENT
BEGIN:VEVENT
DTSTART;TZID=America/Monterrey:20240313T210000
DTEND;TZID=America/Monterrey:20240313T220000
DTSTAMP:20260423T152753
CREATED:20240308T183745Z
LAST-MODIFIED:20240308T184322Z
UID:6819-1710363600-1710367200@www.ciberpediatras.org
SUMMARY:Implicaciones Bioéticas en Cirugía Pediátrica
DESCRIPTION:Estimado Pediatra Latinoamericano. Lo invitamos a unirse al seminario web Zoom. \nMiércoles 13 marzo 2024 09:00 p. m. Ciudad de México \nImplicaciones Bioéticas en Cirugía Pediátrica\, Dres: Jorge Adrian Chuck Sepulveda y Guillermo Yanowsky Reyes \nhttps://us02web.zoom.us/webinar/register/WN_wQgOfNNQQC6oYxr7IG832g \n 
URL:http://www.ciberpediatras.org/event/implicaciones-bioeticas-en-cirugia-pediatrica/
CATEGORIES:Conferencia On-Line
END:VEVENT
BEGIN:VEVENT
DTSTART;TZID=America/Monterrey:20240316T080000
DTEND;TZID=America/Monterrey:20240316T170000
DTSTAMP:20260423T152753
CREATED:20240317T034141Z
LAST-MODIFIED:20240317T034141Z
UID:6838-1710576000-1710608400@www.ciberpediatras.org
SUMMARY:Abordaje Inicial del Paciente Pediátrico con Sospecha de Alteraciónes en el Neurodesarrollo
DESCRIPTION:Estimado Pediatra Latinoamericano\, lo invitamos al Seminario Ciberpeds\, el día Miércoles 20 marzo 2024 09:00 p. m. Ciudad de México.  Abordaje Inicial del Paciente Pediátrico con Sospecha de Alteraciónes en el Neurodesarrollo.                Por  la Dra. Enoe Cruz Martínez y Psic. Patricia Lucero Albarrán Cárdenas.                                                             Inscríbase en la fecha y horario que más le convengan: \nhttps://us02web.zoom.us/webinar/register/WN_R4mcmtZ0Sliyrn96c0vY1A
URL:http://www.ciberpediatras.org/event/abordaje-inicial-del-paciente-pediatrico-con-sospecha-de-alteraciones-en-el-neurodesarrollo/
CATEGORIES:Conferencia On-Line
END:VEVENT
END:VCALENDAR