BEGIN:VCALENDAR
VERSION:2.0
PRODID:-//Ciberpeds AC - ECPv6.15.13//NONSGML v1.0//EN
CALSCALE:GREGORIAN
METHOD:PUBLISH
X-WR-CALNAME:Ciberpeds AC
X-ORIGINAL-URL:http://www.ciberpediatras.org
X-WR-CALDESC:Eventos para Ciberpeds AC
REFRESH-INTERVAL;VALUE=DURATION:PT1H
X-Robots-Tag:noindex
X-PUBLISHED-TTL:PT1H
BEGIN:VTIMEZONE
TZID:America/Monterrey
BEGIN:STANDARD
TZOFFSETFROM:-0600
TZOFFSETTO:-0600
TZNAME:CST
DTSTART:20230101T000000
END:STANDARD
END:VTIMEZONE
BEGIN:VEVENT
DTSTART;TZID=America/Monterrey:20240204T080000
DTEND;TZID=America/Monterrey:20240204T170000
DTSTAMP:20260423T163506
CREATED:20240205T014716Z
LAST-MODIFIED:20240205T014716Z
UID:6709-1707033600-1707066000@www.ciberpediatras.org
SUMMARY:Trastorno del Sueño en Adolescentes
DESCRIPTION:Estimado Pediatra Latinoamericano. Lo invitamos a unirse al seminario web Zoom. Miécoles 7 feb 2024 09:00 p. m. Ciudad de México.    Trastorno del Sueño en Adolescentes\, por la Dra Aracely Reyes Cuayauhitl Neurologo Pediatra de la Cd de México. Inscríbase en la fecha y horario que más le convengan: https://us02web.zoom.us/webinar/register/WN_w8w7Tj14RRyFqwk6q9iCew
URL:http://www.ciberpediatras.org/event/trastorno-del-sueno-en-adolescentes/
CATEGORIES:Conferencia On-Line
END:VEVENT
BEGIN:VEVENT
DTSTART;TZID=America/Monterrey:20240214T210000
DTEND;TZID=America/Monterrey:20240214T220000
DTSTAMP:20260423T163506
CREATED:20240209T201850Z
LAST-MODIFIED:20240209T201850Z
UID:6723-1707944400-1707948000@www.ciberpediatras.org
SUMMARY:Alergia Alimentaria por IgE en Niños Amamantados
DESCRIPTION:Estimado Pediatra Latinoamericano.  Lo invitamos a unirse al seminario web Zoom.    Miércoles 14 febrero 2024 09:00 p. m. Ciudad de México.                                                                                                                                       Alergia Alimentaria por IgE en Niños Amamantados\, por los Doctores\, Edmedt Fest Parra\, Ricardo Baeza Bastarrachea y Ricardo Baeza Bacab. Inscríbase en la fecha y horario que más le convengan: \nhttps://us02web.zoom.us/webinar/register/WN_58Zs_tAFQo2lGpNIEjCwTA
URL:http://www.ciberpediatras.org/event/alergia-alimentaria-por-ige-en-ninos-amamantados/
CATEGORIES:Conferencia On-Line
END:VEVENT
BEGIN:VEVENT
DTSTART;TZID=America/Monterrey:20240221T210000
DTEND;TZID=America/Monterrey:20240221T220000
DTSTAMP:20260423T163506
CREATED:20240217T034658Z
LAST-MODIFIED:20240217T034658Z
UID:6742-1708549200-1708552800@www.ciberpediatras.org
SUMMARY:Abordaje del Síncope
DESCRIPTION:Estimado Pediatra Latinomericano. Lo invitamos a unirse al seminario web Zoom.                                                                       Miércoles 21 feb 2024 09:00 p. m. Ciudad de México.                                                                                                        Abordaje del Síncope\, por el Dr. Rodrigo Hernández Benítez\, Cardiólogo Pediatra de la Cd de México.              Liga de inscripción: \nhttps://us02web.zoom.us/webinar/register/WN_aRJAuYWlS9uH5u8uPpi6CA
URL:http://www.ciberpediatras.org/event/abordaje-del-sincope/
CATEGORIES:Conferencia On-Line
END:VEVENT
BEGIN:VEVENT
DTSTART;TZID=America/Monterrey:20240228T210000
DTEND;TZID=America/Monterrey:20240228T220000
DTSTAMP:20260423T163506
CREATED:20240226T030547Z
LAST-MODIFIED:20240226T030736Z
UID:6773-1709154000-1709157600@www.ciberpediatras.org
SUMMARY:Conceptos Básicos de Familia: Funcional/Disfuncional
DESCRIPTION:Estimado Pediatra Latinoamericano. Lo invitamos a unirse al seminario web Zoom. \nMiércoles 28 febrero 2024 09:00 p. m. Ciudad de México \nConceptos Básicos de Familia: Funcional/Disfuncional pr la Dra Denisse de Osio Rojas\, Pediatra de Monterrey N.L. https://us02web.zoom.us/webinar/register/WN_17f2DQ0WRVqxGb4nNDspuA  \nLuego de la inscripción\, recibirá un correo electrónico de confirmación con información para unirse al seminario web. \n  \n 
URL:http://www.ciberpediatras.org/event/conceptos-basicos-de-familia-funcional-disfuncional/
CATEGORIES:Conferencia On-Line
END:VEVENT
END:VCALENDAR