BEGIN:VCALENDAR
VERSION:2.0
PRODID:-//Ciberpeds AC - ECPv6.15.13//NONSGML v1.0//EN
CALSCALE:GREGORIAN
METHOD:PUBLISH
X-WR-CALNAME:Ciberpeds AC
X-ORIGINAL-URL:http://www.ciberpediatras.org
X-WR-CALDESC:Eventos para Ciberpeds AC
REFRESH-INTERVAL;VALUE=DURATION:PT1H
X-Robots-Tag:noindex
X-PUBLISHED-TTL:PT1H
BEGIN:VTIMEZONE
TZID:America/Monterrey
BEGIN:STANDARD
TZOFFSETFROM:-0600
TZOFFSETTO:-0600
TZNAME:CST
DTSTART:20230101T000000
END:STANDARD
END:VTIMEZONE
BEGIN:VEVENT
DTSTART;TZID=America/Monterrey:20240103T210000
DTEND;TZID=America/Monterrey:20240103T220000
DTSTAMP:20260423T175349
CREATED:20240102T161930Z
LAST-MODIFIED:20240102T162235Z
UID:6582-1704315600-1704319200@www.ciberpediatras.org
SUMMARY:La Maravilla de  la de Protección de los Mil Días
DESCRIPTION:Estimado Pediatra Latinoamericano. Lo invitamos a unirse al seminario web Zoom. Miércoles 3 enero 2024 09:00 p. m. Ciudad de México. La Maravilla de  la de Protección de los Mil Días\, por la Da Laura López Vargas\, Pediatra de la Cd de Guadalajara Jal. \nFavor de Registrarse en esta Liga o haciendo click en el Código QR. \nhttps://us02web.zoom.us/webinar/register/WN_vUSVMGFRRLezZYnhWrqKBw
URL:http://www.ciberpediatras.org/event/6582/
CATEGORIES:Conferencia On-Line
END:VEVENT
BEGIN:VEVENT
DTSTART;TZID=America/Monterrey:20240110T210000
DTEND;TZID=America/Monterrey:20240110T220000
DTSTAMP:20260423T175349
CREATED:20240107T010428Z
LAST-MODIFIED:20240107T010911Z
UID:6593-1704920400-1704924000@www.ciberpediatras.org
SUMMARY:Quemadura Química de Esófago
DESCRIPTION:Estimado Pediatra Latinoamericano. Lo invitamos a unirse al seminario web Zoom. Miércoles 10 enero 2024 09:00 p. m. Ciudad de México.  Quemadura Química de Esófago por el Dr. Guillermo Yanowsky Reyes. Cirujano Pediatra de la Cd de Guadalajara Jal.
URL:http://www.ciberpediatras.org/event/6593/
CATEGORIES:Conferencia On-Line
END:VEVENT
BEGIN:VEVENT
DTSTART;TZID=America/Monterrey:20240117T210000
DTEND;TZID=America/Monterrey:20240117T220000
DTSTAMP:20260423T175349
CREATED:20240113T021806Z
LAST-MODIFIED:20240113T021806Z
UID:6628-1705525200-1705528800@www.ciberpediatras.org
SUMMARY:Biológicos en el Consultorio y Contraindicacionees de Aplicación de Vacunas
DESCRIPTION:Estimado Pediatra Latinoamericano. Lo invitamos el Miércoles 17 ene 2024 09:00 p. m. Ciudad de México.                    Manejo de Biológicos en el Consultorio y Contraindicacionees de Aplicación de Vacunas\, por el Dr. Antonio Arista Viveros\, infectólogo Pediatra de la Cd de México. http://tinyurl.com/55f6nz66
URL:http://www.ciberpediatras.org/event/biologicos-en-el-consultorio-y-contraindicacionees-de-aplicacion-de-vacunas/
CATEGORIES:Conferencia On-Line
END:VEVENT
BEGIN:VEVENT
DTSTART;TZID=America/Monterrey:20240124T210000
DTEND;TZID=America/Monterrey:20240124T220000
DTSTAMP:20260423T175349
CREATED:20240120T040234Z
LAST-MODIFIED:20240120T040400Z
UID:6667-1706130000-1706133600@www.ciberpediatras.org
SUMMARY:Manejo Integral de Labio y Paladar Hendido
DESCRIPTION:Estimado Pediatra Latinoamericano. Lo invitamos a unirse al seminario web Zoom. Miércoles 24 enero 2024 09:00 p. m. Ciudad de México.  Manejo Integral de Labio y Paladar Hendido\, por El Dentista Ricardo Elizondo Dueñaz y el Dr. Enrique Mendoza Lopez\, ambos de la Cd. de Monterrey N.L. \nhttps://us02web.zoom.us/webinar/register/WN_J1GNqdxJQFCCF3MN2kbXWQ
URL:http://www.ciberpediatras.org/event/manejo-integral-de-labio-y-paladar-hendido/
CATEGORIES:Conferencia On-Line
END:VEVENT
BEGIN:VEVENT
DTSTART;TZID=America/Monterrey:20240131T210000
DTEND;TZID=America/Monterrey:20240131T220000
DTSTAMP:20260423T175349
CREATED:20240129T024128Z
LAST-MODIFIED:20240129T024128Z
UID:6685-1706734800-1706738400@www.ciberpediatras.org
SUMMARY:Quiste Pilonidal Manejo Actual
DESCRIPTION:Estimado Pediatra Latinoamericano. Lo invitamos a unirse al seminario web Zoom.                                                   Miércoles 31 ene 2024 09:00 p. m. Ciudad de México.  Quiste Pilonidal Manejo Actual\, por el Dr. Mario Riquelme Heras Cirujano Pediatra\, de la Cd de Monterrey N.L. Inscríbase en la fecha y horario que más le convengan: https://us02web.zoom.us/webinar/register/WN_MHv1WRjsTZ6ASOmLLmclsA  \nLuego de la inscripción\, recibirá un correo electrónico de confirmación con información para unirse al seminario web.
URL:http://www.ciberpediatras.org/event/quiste-pilonidal-manejo-actual/
CATEGORIES:Conferencia On-Line
END:VEVENT
END:VCALENDAR