BEGIN:VCALENDAR
VERSION:2.0
PRODID:-//Ciberpeds AC - ECPv6.15.13//NONSGML v1.0//EN
CALSCALE:GREGORIAN
METHOD:PUBLISH
X-WR-CALNAME:Ciberpeds AC
X-ORIGINAL-URL:http://www.ciberpediatras.org
X-WR-CALDESC:Eventos para Ciberpeds AC
REFRESH-INTERVAL;VALUE=DURATION:PT1H
X-Robots-Tag:noindex
X-PUBLISHED-TTL:PT1H
BEGIN:VTIMEZONE
TZID:America/Monterrey
BEGIN:DAYLIGHT
TZOFFSETFROM:-0600
TZOFFSETTO:-0500
TZNAME:CDT
DTSTART:20220403T080000
END:DAYLIGHT
BEGIN:STANDARD
TZOFFSETFROM:-0500
TZOFFSETTO:-0600
TZNAME:CST
DTSTART:20221030T070000
END:STANDARD
END:VTIMEZONE
BEGIN:VEVENT
DTSTART;TZID=America/Monterrey:20231101T210000
DTEND;TZID=America/Monterrey:20231101T220000
DTSTAMP:20260423T201440
CREATED:20231029T035007Z
LAST-MODIFIED:20231030T234831Z
UID:6414-1698872400-1698876000@www.ciberpediatras.org
SUMMARY:Implicaciones de la Genética y la Lactancia
DESCRIPTION:Estimado Pediatra Latinoamericano. Lo invitamos a unirse al seminario web Zoom. Miércoles 1o Noviembre 2023 09:00 p. m. Ciudad de México.   Implicaciones de la Genética y la Lactancia\, por el Dr. Ricardo García Cavazos\, Medico genetista de la Cd de México.  Inscríbase en la fecha y horario que más le convengan: https://us02web.zoom.us/webinar/register/WN_lAGOU8anTnOvWwhj71guoA \nLuego de la inscripción\, recibirá un correo electrónico de confirmación con información para unirse al seminario web.
URL:http://www.ciberpediatras.org/event/implicaciones-de-la-genetica-y-la-lactancia/
CATEGORIES:Conferencia On-Line
END:VEVENT
BEGIN:VEVENT
DTSTART;TZID=America/Monterrey:20231108T210000
DTEND;TZID=America/Monterrey:20231108T220000
DTSTAMP:20260423T201440
CREATED:20231106T014810Z
LAST-MODIFIED:20231106T014810Z
UID:6431-1699477200-1699480800@www.ciberpediatras.org
SUMMARY:Malformaciones Broncopulmonares
DESCRIPTION:Estimado Pediatra Latinoamericano. Lo invitamos a unirse al seminario web Zoom. Miércoles 8 noviembre 2023 09:00 p. m. Ciudad de México.  Malformaciones Broncopulmonares por la Dra Lourdes Carvajal Figueroa\, Cirujano Pediatra de la Cd de Mexico. Liga de inscripción: https://us02web.zoom.us/webinar/register/WN_gw3MIBD_Sjy5z_P1PU7FOQ \nLuego de la inscripción\, recibirá un correo electrónico de confirmación con información para unirse al seminario web.
URL:http://www.ciberpediatras.org/event/malformaciones-broncopulmonares/
CATEGORIES:Conferencia On-Line
END:VEVENT
BEGIN:VEVENT
DTSTART;TZID=America/Monterrey:20231115T210000
DTEND;TZID=America/Monterrey:20231115T220000
DTSTAMP:20260423T201440
CREATED:20231113T001233Z
LAST-MODIFIED:20231113T001233Z
UID:6451-1700082000-1700085600@www.ciberpediatras.org
SUMMARY:La Comunicación en la Práctica de las Ciencias de la Salud
DESCRIPTION:Estimado Pediatra Latinoamericano. Lo invitamos a unirse al seminario web Zoom. Lo invitamos a unirse al seminario web Zoom. Miércoles 15 noviembre 2023 09:00 p. m. Ciudad de México. La Comunicación en la Práctica de las Ciencias de la Salud\, Dr. Gerardo Cabrera Meza Neonatologo de Houston Tx. Inscríbase en la fecha y horario que más le convengan: https://us02web.zoom.us/webinar/register/WN_rnxWFLLiQueu4nkSiVcx_w  \nLuego de la inscripción\, recibirá un correo electrónico de confirmación con información para unirse al seminario web.
URL:http://www.ciberpediatras.org/event/la-comunicacion-en-la-practica-de-las-ciencias-de-la-salud/
CATEGORIES:Conferencia On-Line
END:VEVENT
BEGIN:VEVENT
DTSTART;TZID=America/Monterrey:20231122T210000
DTEND;TZID=America/Monterrey:20231122T220000
DTSTAMP:20260423T201440
CREATED:20231118T035810Z
LAST-MODIFIED:20231118T035810Z
UID:6476-1700686800-1700690400@www.ciberpediatras.org
SUMMARY:Los adolescentes de la comunidad LGTTTB+ y Parentalidad
DESCRIPTION:Estimado Pediatra Latinoamericano. Lo invitamos a unirse al seminario web Zoom.  Miércoles 22 noviembre 2023 09:00 p. m. Ciudad de México.  Los adolescentes de la comunidad LGTTTB+ y Parentalidad\, por el Dr. Francisco Fernández Paredes. Pediatra de la Cd de México
URL:http://www.ciberpediatras.org/event/los-adolescentes-de-la-comunidad-lgtttb-y-parentalidad/
CATEGORIES:Conferencia On-Line
END:VEVENT
BEGIN:VEVENT
DTSTART;TZID=America/Monterrey:20231129T090000
DTEND;TZID=America/Monterrey:20231129T220000
DTSTAMP:20260423T201440
CREATED:20231124T210951Z
LAST-MODIFIED:20231129T231825Z
UID:6491-1701248400-1701295200@www.ciberpediatras.org
SUMMARY:La Crísis de la Resistencia a los Antimicrobianos
DESCRIPTION:Estimado Pediatra Latinoamericano. Lo invitamos a unirse al seminario web Zoom. Miércoles 29 nov 2023 09:00 p. m. Ciudad de México. La Crísis de la Resistencia a los Antimicrobianos por el Dr. Paul Planet Infectólogo Pediatra del CHOP. \nPara inscribirse hacer Click Aquí: https://tinyurl.com/bdf5wxzr
URL:http://www.ciberpediatras.org/event/la-crisis-de-la-resistencia-a-los-antimicrobianos/
CATEGORIES:Conferencia On-Line
END:VEVENT
END:VCALENDAR